BEGIN:VCALENDAR
VERSION:2.0
PRODID:-//IWT Wirtschaft und Technik GmbH - ECPv6.15.11//NONSGML v1.0//EN
CALSCALE:GREGORIAN
METHOD:PUBLISH
X-WR-CALNAME:IWT Wirtschaft und Technik GmbH
X-ORIGINAL-URL:https://www.iwt-bodensee.de
X-WR-CALDESC:Veranstaltungen für IWT Wirtschaft und Technik GmbH
REFRESH-INTERVAL;VALUE=DURATION:PT1H
X-Robots-Tag:noindex
X-PUBLISHED-TTL:PT1H
BEGIN:VTIMEZONE
TZID:Europe/Berlin
BEGIN:DAYLIGHT
TZOFFSETFROM:+0100
TZOFFSETTO:+0200
TZNAME:CEST
DTSTART:20210328T010000
END:DAYLIGHT
BEGIN:STANDARD
TZOFFSETFROM:+0200
TZOFFSETTO:+0100
TZNAME:CET
DTSTART:20211031T010000
END:STANDARD
BEGIN:DAYLIGHT
TZOFFSETFROM:+0100
TZOFFSETTO:+0200
TZNAME:CEST
DTSTART:20220327T010000
END:DAYLIGHT
BEGIN:STANDARD
TZOFFSETFROM:+0200
TZOFFSETTO:+0100
TZNAME:CET
DTSTART:20221030T010000
END:STANDARD
BEGIN:DAYLIGHT
TZOFFSETFROM:+0100
TZOFFSETTO:+0200
TZNAME:CEST
DTSTART:20230326T010000
END:DAYLIGHT
BEGIN:STANDARD
TZOFFSETFROM:+0200
TZOFFSETTO:+0100
TZNAME:CET
DTSTART:20231029T010000
END:STANDARD
END:VTIMEZONE
BEGIN:VEVENT
DTSTART;TZID=Europe/Berlin:20221027T130000
DTEND;TZID=Europe/Berlin:20221027T170000
DTSTAMP:20260419T182952
CREATED:20220902T070832Z
LAST-MODIFIED:20221025T055522Z
UID:46073-1666875600-1666890000@www.iwt-bodensee.de
SUMMARY:4. Fachtag Robotik - Die mobile Robotik in der Industrie
DESCRIPTION:Das IWT veranstaltet am 27. Oktober 2022 im RITZ (Regionales Innovations- und Technologiezentrum in Friedrichshafen) den 4. Fachtag Robotik mit dem Schwerpunkt “Die mobile Robotik in der Industrie”. Hierzu wird es spannende Vorträge geben. Darüber hinaus haben Sie vor Ort die Möglichkeit unsere Lernfabrik zu besichtigen und Einblicke in unsere aktuellen Projekte zu bekommen. \nDas klingt spannend und hat Ihr Interesse geweckt? Dann kommen Sie gerne zu unserem 4. Fachtag Robotik und tauchen Sie in die Welt der Robotik ein. Wir laden Sie hierzu herzlich ein! \n \nProgramm\n  \nEinlass und Begrüßung 13:00 Uhr \n*** \nBegrüßung\n \nHarsh Sheth und Stefanie Rist\n \nIWT Wirtschaft und Technik GmbH  \n  \n*** \nAutonome mobile Robotik im End-to-End Betrieb – Anwendungsfall EMS\n \nCarina Zeh \nEvocortex GmbH               \n***  \n  \nSchneller zum Prototyp KI-gestuetzter Systeme durch Simulation und synthetische Daten\n \nStefan Junghans \nWebware-Experts OHG \n  \n*** \nKaffeepause \n  \n*** \nVorstellung des neuen Konzepts der Lernfabrik \nMarkus Wengle\n \nIWT Wirtschaft und Technik GmbH  \n  \n  *** \nRundgang in der Lernfabrik und Get-Together \nEnde ca. 17:00 Uhr \n  \nÄnderungen vorbehalten.
URL:https://www.iwt-bodensee.de/event/4-fachtag-robotik-die-mobile-robotik-in-der-industrie/
LOCATION:RITZ Regionales Innovations- und Technologietransfer Zentrum\, Fallenbrunnen 14\, Friedrichshafen\, 88045\, Deutschland
CATEGORIES:Events,Featured
ATTACH;FMTTYPE=image/jpeg:https://www.iwt-bodensee.de/wp-content/uploads/2022/09/220804_Flyer-Entwurf_Fachtag-Robotik-2022-scaled.jpg
ORGANIZER;CN="IWT Wirtschaft und Technik GmbH":MAILTO:willamowski@iwt-bodensee.de
END:VEVENT
END:VCALENDAR