BEGIN:VCALENDAR
VERSION:2.0
PRODID:-//IWT Wirtschaft und Technik GmbH - ECPv6.15.11//NONSGML v1.0//EN
CALSCALE:GREGORIAN
METHOD:PUBLISH
X-WR-CALNAME:IWT Wirtschaft und Technik GmbH
X-ORIGINAL-URL:https://www.iwt-bodensee.de
X-WR-CALDESC:Veranstaltungen für IWT Wirtschaft und Technik GmbH
REFRESH-INTERVAL;VALUE=DURATION:PT1H
X-Robots-Tag:noindex
X-PUBLISHED-TTL:PT1H
BEGIN:VTIMEZONE
TZID:Europe/Berlin
BEGIN:DAYLIGHT
TZOFFSETFROM:+0100
TZOFFSETTO:+0200
TZNAME:CEST
DTSTART:20220327T010000
END:DAYLIGHT
BEGIN:STANDARD
TZOFFSETFROM:+0200
TZOFFSETTO:+0100
TZNAME:CET
DTSTART:20221030T010000
END:STANDARD
BEGIN:DAYLIGHT
TZOFFSETFROM:+0100
TZOFFSETTO:+0200
TZNAME:CEST
DTSTART:20230326T010000
END:DAYLIGHT
BEGIN:STANDARD
TZOFFSETFROM:+0200
TZOFFSETTO:+0100
TZNAME:CET
DTSTART:20231029T010000
END:STANDARD
BEGIN:DAYLIGHT
TZOFFSETFROM:+0100
TZOFFSETTO:+0200
TZNAME:CEST
DTSTART:20240331T010000
END:DAYLIGHT
BEGIN:STANDARD
TZOFFSETFROM:+0200
TZOFFSETTO:+0100
TZNAME:CET
DTSTART:20241027T010000
END:STANDARD
END:VTIMEZONE
BEGIN:VEVENT
DTSTART;TZID=Europe/Berlin:20231123T143000
DTEND;TZID=Europe/Berlin:20231123T220000
DTSTAMP:20260419T214303
CREATED:20230801T124008Z
LAST-MODIFIED:20231117T121233Z
UID:49617-1700749800-1700776800@www.iwt-bodensee.de
SUMMARY:ALFRIED-Abschlussveranstaltung
DESCRIPTION:ALFRIED lädt zur offiziellen Abschlussveranstaltung!\nNach knapp 3 Jahren Forschen und Entwickeln neigt sich die Förderphase von ALFRIED (Automatisiertes und vernetztes Fahren in der Logistik am Testfeld Friedrichshafen) dem Ende zu.\nZeit\, um zu reflektieren\, die Ergebnisse mit der Öffentlichkeit zu teilen und einen Blick in die Zukunft zu wagen! \n\nNeben einem Rückblick auf knapp drei Jahre Projekttätigkeit stellen wir den aktuellen Projektstand vor und diskutieren mit Ihnen die Zukunft. \n \n  \n14:30 Uhr  Einlass\n15:00 Uhr Eröffnung\n\n\n\nGrußworte Dr. Markus Urner\nGrußworte Herr EBM Fabian Müller\nProjektvorstellung\n\n\n\n15:45 Uhr Demonstratoren aus ALFRIED\n\n\n\nSmart City Leitstelle\nMini-Trucks\nSensortestbrücke\n\n\n\n17:10 Uhr Kaffeepause & Showcase ETO-Testfahrzeug \n17:30 Uhr Vorträge\n\n\n\nTestfelder für automatisiertes und vernetztes Fahren – Aktueller Stand und Empfehlungen\nKVM Technologie im Cyber-Raum\nIntelligenter Leitpfosten mit Kommunikationsnetzwerk und Energy Harvesting\nAnalyse des ZF Werkverkehrs\n\n\n\n18:30 Uhr Podiumsdiskussion\n\n\n\nHerr Dr. Michael Schwabe (ETO)\nProf. Dr. Gerhard Gumpoltsberger (ZF)\nJoachim Radke (VoLTRA)\n\n\n\n19:00 Uhr Networking \n\n\n\nmit Dinnete und Weinbar\n\n\n\n\nDatum: 23.11.2023 \nOrt: RITZ (Regionales Innovations- und Technologietransferzentrum)\, Fallenbrunnen 14 \nDie Teilnahme an der ALFRIED-Abschlussveranstaltung ist kostenfrei\, eine Anmeldung ist aus organisatorischen Gründen notwendig.  \n 
URL:https://www.iwt-bodensee.de/event/alfried-abschlussveranstaltung/
LOCATION:RITZ Regionales Innovations- und Technologietransfer Zentrum\, Fallenbrunnen 14\, Friedrichshafen\, 88045\, Deutschland
CATEGORIES:Events,Featured
ATTACH;FMTTYPE=image/jpeg:https://www.iwt-bodensee.de/wp-content/uploads/2023/08/Save-the-Date_DINlang_Druckdateien.jpg
END:VEVENT
END:VCALENDAR