BEGIN:VCALENDAR
VERSION:2.0
PRODID:-//IWT Wirtschaft und Technik GmbH - ECPv6.15.11//NONSGML v1.0//EN
CALSCALE:GREGORIAN
METHOD:PUBLISH
X-WR-CALNAME:IWT Wirtschaft und Technik GmbH
X-ORIGINAL-URL:https://www.iwt-bodensee.de
X-WR-CALDESC:Veranstaltungen für IWT Wirtschaft und Technik GmbH
REFRESH-INTERVAL;VALUE=DURATION:PT1H
X-Robots-Tag:noindex
X-PUBLISHED-TTL:PT1H
BEGIN:VTIMEZONE
TZID:Europe/Berlin
BEGIN:DAYLIGHT
TZOFFSETFROM:+0100
TZOFFSETTO:+0200
TZNAME:CEST
DTSTART:20230326T010000
END:DAYLIGHT
BEGIN:STANDARD
TZOFFSETFROM:+0200
TZOFFSETTO:+0100
TZNAME:CET
DTSTART:20231029T010000
END:STANDARD
BEGIN:DAYLIGHT
TZOFFSETFROM:+0100
TZOFFSETTO:+0200
TZNAME:CEST
DTSTART:20240331T010000
END:DAYLIGHT
BEGIN:STANDARD
TZOFFSETFROM:+0200
TZOFFSETTO:+0100
TZNAME:CET
DTSTART:20241027T010000
END:STANDARD
BEGIN:DAYLIGHT
TZOFFSETFROM:+0100
TZOFFSETTO:+0200
TZNAME:CEST
DTSTART:20250330T010000
END:DAYLIGHT
BEGIN:STANDARD
TZOFFSETFROM:+0200
TZOFFSETTO:+0100
TZNAME:CET
DTSTART:20251026T010000
END:STANDARD
END:VTIMEZONE
BEGIN:VEVENT
DTSTART;TZID=Europe/Berlin:20240318T170000
DTEND;TZID=Europe/Berlin:20240422T193000
DTSTAMP:20260420T022632
CREATED:20230912T125810Z
LAST-MODIFIED:20240712T083217Z
UID:49890-1710781200-1713814200@www.iwt-bodensee.de
SUMMARY:Basiszertifikat im Projektmanagement der PM-ZERT
DESCRIPTION:Das Institut für Weiterbildung\, Wissens- und Technologietransfer an der DHBW Ravensburg (IWT Wirtschaft und Technik GmbH) bietet die Durchführung eines Vorbereitungskurses mit anschließender Prüfung durch die PM-ZERT an\, nach deren erfolgreichem Bestehen das Basiszertifikat im Projektmanagement der PM-ZERT (Zertifizierungsstelle der GPM Deutsche Gesellschaft für Projektmanagement e. V.) erteilt wird. \nMit diesem Zertifikat gelingt der Nachweis\, dass erworbenes PM-Wissen dem aktuellen internationalen Standard entspricht. \nDas Seminar aus 34 Unterrichtseinheiten führt Sie in die wichtigsten Grundlagen des klassischen und agilen Projektmanagements ein. Zusätzlich zu einem ausführlichen Skript werden Übungen und Fallstudien bearbeitet. Neben den Methoden und Werkzeugen des Projektmanagements werden auch Themen zum Selbstmanagement\, zur Teamführung und zum Umgang mit Diversity-Aspekten gemäß dem aktuellen ICB 4 Standard behandelt. Vorkenntnisse sind nicht notwendig. \nWeitere Informationen zum Basiszertifikat finden Sie unter dem Link:  \n  \nGPM Basislevel ist für Personen\, die sich einen ersten Überblick im Projektmanagement verschaffen wollen. \n  \nInhalte des Basislevels:\n\n    Die Sprache des Projektmanagements verstehen\n    Erste PM-Methoden (wie Zieldefinition\, Stakeholdermanagement\, Risikomanagement\, Projektphasen etc.) kennenlernen\n    Den eigenen Beitrag im Projekt verstehen und gestalten können\n\n  \nAbschluss: Basiszertifikat im Projektmanagement (GPM) nach ICB4 Norm \n  \nZielgruppe:\n\nStudierende der DHBW\n\n  \n\n  \n\n\n\nTermine:\nUhrzeit:\nOrt:\nBeschreibung:\n\n\n18.03. und 20.03.2024\n17:00-19:30 Uhr\nOnline über ZOOM\nEinstieg ins Projektmanagement\n\n\n02.04. bis 04.04.2024\n09:00-18:00 Uhr\nDHBW Technikcampus\, 88045 Friedrichshafen\nKern-Seminar\n\n\n15.04. und 22.04.2024\n17:00-19:30 Uhr\nOnline über ZOOM\nPrüfungsvorbereitung\n\n\n27.04.2024\n\ngeplanter Prüfungstermin\n\n\n\n\n  \n  \n\nKursgebühr (Mwst.-frei):\n\n420 € für Studierende (zzgl. GPM-Prüfungsgebühr von ca. € 150 netto\, plus 70 netto bei offenen Zertifizierungsrunden\, welche unbeeinflussbar ist und separat von der GPM in Rechnung gestellt wird)\n570 € für Alumni und Externe (zzgl. GPM-Prüfungsgebühr von ca. € 250 netto\, plus 70 netto bei offenen Zertifizierungsrunden\, welche unbeeinflussbar ist und separat von der GPM in Rechnung gestellt wird)\n\nAnbei finden Sie die aktuellen Prüfungsgebühren der GPM unter „Projektmanagement“ https://www.pm-zert.de/anmeldung/gebuehren \n\nTrainer:\n\nChristian Sturm\, Dipl.-Ing. (FH) Elektrotechnik\, Organisations- und Projektmanagementberater und Mitarbeiter der Daimler Truck AG\n\n\nAnmeldefrist:\n18.02.2024 \nHinweis: Kostenlose Stornierungen sind nur bis zur Anmeldefrist möglich. Die weiteren Stornobedingungen finden Sie in unseren AGB. \n\nBildungszeit: \nDas IWT ist als Bildungseinrichtung im Sinne des §10 Absatz 3 BzG BW anerkannt\, somit können Sie für dieses Seminar Bildungszeit beantragen. Weitere Informationen zu Ihren persönlichen Voraussetzungen  sowie das Antragsformular finden Sie auf der Homepage des Regierungspräsidiums Baden-Württemberg https://rp.baden-wuerttemberg.de/Themen/Bildung/Seiten/Bildungszeit.aspx
URL:https://www.iwt-bodensee.de/event/basiszertifikat-im-projektmanagement-der-pm-zert/
LOCATION:DHBW Ravensburg – Campus Friedrichshafen\, Fallenbrunnen 2\, Friedrichshafen\, 88045\, Deutschland
CATEGORIES:Events
ATTACH;FMTTYPE=image/jpeg:https://www.iwt-bodensee.de/wp-content/uploads/2019/11/l62-69c-1024x683.jpg
ORGANIZER;CN="IWT Katrin Willamowski":MAILTO:willamowski@iwt-bodensee.de
END:VEVENT
END:VCALENDAR