BEGIN:VCALENDAR
VERSION:2.0
PRODID:-//IWT Wirtschaft und Technik GmbH - ECPv6.15.11//NONSGML v1.0//EN
CALSCALE:GREGORIAN
METHOD:PUBLISH
X-WR-CALNAME:IWT Wirtschaft und Technik GmbH
X-ORIGINAL-URL:https://www.iwt-bodensee.de
X-WR-CALDESC:Veranstaltungen für IWT Wirtschaft und Technik GmbH
REFRESH-INTERVAL;VALUE=DURATION:PT1H
X-Robots-Tag:noindex
X-PUBLISHED-TTL:PT1H
BEGIN:VTIMEZONE
TZID:Europe/Berlin
BEGIN:DAYLIGHT
TZOFFSETFROM:+0100
TZOFFSETTO:+0200
TZNAME:CEST
DTSTART:20230326T010000
END:DAYLIGHT
BEGIN:STANDARD
TZOFFSETFROM:+0200
TZOFFSETTO:+0100
TZNAME:CET
DTSTART:20231029T010000
END:STANDARD
BEGIN:DAYLIGHT
TZOFFSETFROM:+0100
TZOFFSETTO:+0200
TZNAME:CEST
DTSTART:20240331T010000
END:DAYLIGHT
BEGIN:STANDARD
TZOFFSETFROM:+0200
TZOFFSETTO:+0100
TZNAME:CET
DTSTART:20241027T010000
END:STANDARD
BEGIN:DAYLIGHT
TZOFFSETFROM:+0100
TZOFFSETTO:+0200
TZNAME:CEST
DTSTART:20250330T010000
END:DAYLIGHT
BEGIN:STANDARD
TZOFFSETFROM:+0200
TZOFFSETTO:+0100
TZNAME:CET
DTSTART:20251026T010000
END:STANDARD
END:VTIMEZONE
BEGIN:VEVENT
DTSTART;TZID=Europe/Berlin:20240617T133000
DTEND;TZID=Europe/Berlin:20240617T143000
DTSTAMP:20260421T224630
CREATED:20240506T135909Z
LAST-MODIFIED:20240507T072821Z
UID:51554-1718631000-1718634600@www.iwt-bodensee.de
SUMMARY:Digitale Informationsveranstaltung zur "Anpassungsweiterbildung für Maschinenbauer*innen"
DESCRIPTION:Welche Themen behandelt die Anpassungsweiterbildung? Für wen ist sie relevant und warum? Warum ausgerechnet für den Maschinenbau?\nWie gestaltet sich der Ablauf der Weiterbildung? Wer sind die Dozent*innen und Trainer*innen?\nErhalten Teilnehmer*innen eine Zertifizierung?\nWelche Kosten kommen für mich als Arbeitnehmer/Arbeitgeber zu? Welche zusätzlichen Aufwände bedeutet das für mich als Arbeitnehmer/Arbeitgeber?\nWas bedeutet „Förderung über das Qualifizierungschancengesetz„? Lohnt es sich für mich als Arbeitgeber überhaupt einen Antrag zu stellen?\nWas hat sich zum 01.04.2024 geändert beim Qualifizierungschancengesetz?\nWas ist das Qualifzierungsgeld?\n\nAll diese Fragen treiben Sie um? \n \n  \n  \n  \n  \n  \nDann laden wir Sie herzlich zu unserer Informationsveranstaltung „Anpassungsweiterbildung für Maschinenbauer zu Digitalisierungsthemen im Bereich Produktionsplanung &-steuerung“ ein\, in der wir inhaltliche und organisatorische Details der Weiterbildung vorstellen. Zur Unterstützung haben wir einen Berater der Agentur für Arbeit eingeladen\, der Ihnen Möglichkeiten und Chancen einer Förderung über das Qualifizierungschancengesetz erklärt. Selbstverständlich haben Sie auch Möglichkeiten selbst weitere Fragen zu stellen! \n\n\n\nUhrzeit\nProgrammablauf\n\n\n13:30 Uhr\nBegrüßung\n\n\n13:35 Uhr\nVorstellung: Fit for the Future – Anpassungsweiterbildung für Maschinenbauer zu Digitalisierungsthemen im Bereich Produktionsplanung &-steuerung (Frau Katrin Willamowski\, IWT)\n\n\n13:55 Uhr\nVorstellung Qualifizierungschancengesetz und Qualifzierungsgeld (Herr Henry Schwedt und/oder Herr  Franz Schairer\, Agentur für Arbeit)\n\n\n14:20 Uhr\nZeit für Ihre Fragen\n\n\n\n  \nSie sind interessiert aber der Termin passt leider nicht? \n\n\n\n\n\n\nKein Problem! Am 15.07.2024 von 13:30-14:30 Uhr gibt es eine weitere digitale Informationsveranstaltung! (Hier mehr erfahren und anmelden). \nDie Anmeldung erfolgt wie gewohnt über unsere Reservierung oben. Alle angemeldeten Teilnehmer erhalten an die angegebene E-Mail-Adresse zunächst eine automatische Anmeldebestätigung sowie einen Tag vor der Veranstaltung eine Einladung mit einem Link. Für die Teilnahme ist ein Computer\, Tablet oder Smartphone mit Internetverbindung und Ton (Lautsprecher) und Mikrofon notwendig (Kamera optional). \nWir bitten um Verständis\, dass wir die Teilnehmerzahl begrenzen\, um Fragen zu ermöglichen. Eine frühzeitige Anmeldung ist daher zu empfehlen. \nWir freuen uns über Ihre Teilnahme und Ihre Fragen! \n\nÜbrigens: Unsere Anpassungsweiterbildung ist AZAV-zertifiziert\, daher erhalten Teilnehmer*innen unter Erfüllung der Voraussetzungen auch eine Zertifzierung. Darüber hinaus ist die Weiterbildung förderfähig über das Qualifizierungschancengesetz. Auch Teilnehmer mit Bildungsgutschein können unter Einhaltung der formalen Voraussetzungen die Anpassungsweiterbildung absolvieren.
URL:https://www.iwt-bodensee.de/event/digitale-informationsveranstaltung-zur-anpassungsweiterbildung-fuer-maschinenbauerinnen/
LOCATION:Digital über Zoom
CATEGORIES:Events,Featured
ATTACH;FMTTYPE=image/jpeg:https://www.iwt-bodensee.de/wp-content/uploads/2020/07/question-mark-2492009_1920.jpg
ORGANIZER;CN="IWT Katrin Willamowski":MAILTO:willamowski@iwt-bodensee.de
END:VEVENT
END:VCALENDAR