BEGIN:VCALENDAR
VERSION:2.0
PRODID:-//IWT Wirtschaft und Technik GmbH - ECPv6.15.11//NONSGML v1.0//EN
CALSCALE:GREGORIAN
METHOD:PUBLISH
X-WR-CALNAME:IWT Wirtschaft und Technik GmbH
X-ORIGINAL-URL:https://www.iwt-bodensee.de
X-WR-CALDESC:Veranstaltungen für IWT Wirtschaft und Technik GmbH
REFRESH-INTERVAL;VALUE=DURATION:PT1H
X-Robots-Tag:noindex
X-PUBLISHED-TTL:PT1H
BEGIN:VTIMEZONE
TZID:Europe/Berlin
BEGIN:DAYLIGHT
TZOFFSETFROM:+0100
TZOFFSETTO:+0200
TZNAME:CEST
DTSTART:20230326T010000
END:DAYLIGHT
BEGIN:STANDARD
TZOFFSETFROM:+0200
TZOFFSETTO:+0100
TZNAME:CET
DTSTART:20231029T010000
END:STANDARD
BEGIN:DAYLIGHT
TZOFFSETFROM:+0100
TZOFFSETTO:+0200
TZNAME:CEST
DTSTART:20240331T010000
END:DAYLIGHT
BEGIN:STANDARD
TZOFFSETFROM:+0200
TZOFFSETTO:+0100
TZNAME:CET
DTSTART:20241027T010000
END:STANDARD
BEGIN:DAYLIGHT
TZOFFSETFROM:+0100
TZOFFSETTO:+0200
TZNAME:CEST
DTSTART:20250330T010000
END:DAYLIGHT
BEGIN:STANDARD
TZOFFSETFROM:+0200
TZOFFSETTO:+0100
TZNAME:CET
DTSTART:20251026T010000
END:STANDARD
END:VTIMEZONE
BEGIN:VEVENT
DTSTART;VALUE=DATE:20240424
DTEND;VALUE=DATE:20240426
DTSTAMP:20260422T121018
CREATED:20231211T181012Z
LAST-MODIFIED:20240415T112652Z
UID:50670-1713916800-1714089599@www.iwt-bodensee.de
SUMMARY:Intensivkurs für New Work-Strategien: In 3 Tagen zum Profi
DESCRIPTION:Willkommen zu einem interaktiven 3-Tages-Workshop\, der dir die Türen zu den neuen Horizonten der Arbeitswelt öffnet!\nIn drei Tagen werden wir gemeinsam auf eine Reise gehen\, die sich auf die Grundpfeiler von New Work und innovativer Führung sowie die praktische Anwendung dieser Konzepte in Ihren Organisationen konzentriert. \nAn Tag eins diskutieren Sie gemeinsam über die Zukunft der Arbeit\, erkunden die Vielfalt der Generationen im Arbeitskontext und gestalten aktiv Veränderungen durch die Anwendung von zeitlicher Flexibilität\, Selbstführung und digitalen Schichtmodellen. Der zweite Tag führt Sie in die Welt des „New Leadership“\, in der Vertrauen\, Wertschätzung und eine wertebasierte Führung im Mittelpunkt stehen. Gemeinsam werden wir Wege finden\, wie Sie Ihre Teams auf Augenhöhe führen können\, auch unabhängig von räumlicher Distanz.\nDer abschließende Tag steht im Zeichen der Umsetzung: Wir präsentieren Ergebnisse aus Kleingruppenarbeiten\, vertiefen ausgewählte Themen nach Ihren Wünschen und bieten Raum für den Austausch von Erfahrungen. Best-Practice-Beispiele regionaler Unternehmen werden Sie inspirieren\, während Sie konkrete Schritte für die Umsetzung in Ihren eigenen Organisationen planen. \nBereiten Sie sich darauf vor\, Ihre Perspektiven zu erweitern\, Ideen zu generieren und in die Praxis umzusetzen. Die Zukunft der Arbeit beginnt hier und jetzt. Seien Sie dabei und gestalten Sie Ihre eigene Arbeitswelt von morgen! \nInhalte: \n1. Tag:\n● Einführung in New Work: Definition\, Ursprung und Kernkonzepte\n● Generationen und Menschenbild: Verständnis der verschiedenen Generationen im Arbeitsumfeld\, Menschenbilder und ihre Auswirkungen\n● Digitalisierung und ihre Auswirkungen auf die Arbeitswelt\n● Erfahrungsaustausch: Teilnehmer teilen ihre Erfahrungen und aktuelle Situationen in ihren Organisationen\n● Zeitliche Flexibilität\, Selbstführung und Schichtmodelle\n● Case-Studies in Kleingruppen: Brainstorming und Ideenaustausch für den praktischen Alltag \n  \n2. Tag\n● New Leadership: Vertrauen\, Wertschätzung und Werte in der Führung\n● New Leadership: Führen auf Augenhöhe und Führen aus der Ferne\n● Kommunikation zwischen Menschen: Betonung der Bedeutung von Feedback und die Verwendung verschiedener Kommunikationstools\n● Case-Studies in Kleingruppen: Entwicklung konkreter Ideen für die Umsetzung im Alltag\n● Räumlichkeiten\, Shared Desks\, Annehmlichkeiten in der Arbeitsumgebung\n● Agiles Management\, Teambuilding (remote\, hybrid\, in Präsenz)\, Besprechungen\n● Planung nächste Schritte \n \n3. Tag „Unterstützung der Umsetzung“\n● Vorstellung aller Ergebnisse der Teilnehmenden aus ihren Organisationen\n● Erfahrungsaustausch: Diskussion und Teilen von Herausforderungen und Lösungsansätzen\n● Vertiefung eines Seminarthemas nach Wunsch der Teilnehmer: Tiefergehende Diskussion\n● Erfahrungsaustausch in Kleingruppen: Weitere Diskussionen und Ideenaustausch\n● Best practice Beispiele aus regionalen Unternehmen: Einblicke in erfolgreiche Umsetzungen\n● Abschluss mit Case-Studies: Planung konkreter Schritte für die Umsetzung in den Organisationen der Teilnehmer \n  \nZiel dieses Workshops ist es\, auf die Förderung eines ganzheitlichen Verständnisses der sich verändernden Arbeitswelt und der Entwicklung praktischer Ansätze für die Umsetzung in den Teilnehmerorganisationen einzugehen. Durch die Präsentation von Best-Practice-Beispielen und den Erfahrungsaustausch soll der Workshop Raum für inspirierende Diskussionen und die Entwicklung von konkreten Handlungsschritten bieten\, um die Teilnehmer auf die Anforderungen der sich wandelnden Arbeitswelt vorzubereiten. \nErhalte am Ende das Certificate for New Work and Modern Leadership. \nZielgruppe: Mitarbeitende\, die konkret mit der Gestaltung von NewWork und Optimierungsprojekten im Bereich Zusammenarbeit betraut sind und sein werden. Entscheidungsträger*innen die verstehen wollen\, wie die Arbeitswelt der Zukunft sich verändert und wie Sie sich aktiv auf die Veränderungen vorbereiten. Besonders geeignet ist dieser Workshop damit für Mitarbeitende von HR-Abteilungen und Personalentwickler die in diesen Themenstellungen unterwegs sind. \n___________________________________________________________________________\nAnmeldefrist: 22.03.2024 \nHinweis: Kostenlose Stornierungen sind nur bis zum Ende der Anmeldefrist möglich. Die weiteren Stornobedingungen finden Sie in unseren AGB. \n___________________________________________________________________________\nTeilnehmergebühr (Mwst.-frei):\n \n1.495\,- €/ Teilnehmende \n___________________________________________________________________________\nTermine:\n \n24.04.-25.04.2024 und 05.06.2024 \n___________________________________________________________________________________________ \nReferent: Nick Traenkle \nNach seinem Informatikstudium hat Nick über 15 Jahre Managementerfahrung in Konzern\, Mittelstand und Startup gesammelt. Zuletzt als COO von Deutschlands größtem ToGo-Pfandsystem RECUP. \nÜber die Zeit wurde sein Eindruck\, dass die klassische Management- und BWL-Lehre uns in unserer aktuellen Zeit nicht mehr weiterhilft\, immer stärker. Und so hat Nick\, nachdem er sich zwischenzeitlich zum Organisationsentwickler hat ausbilden lassen\, im Sommer 2022 die New Work Agentur tenkile gegründet. \nHeute entwickelt er gemeinsam mit den Beteiligten in verschiedenen Organisationen\, wie sie in Zukunft arbeiten wollen und wird nebenbei gerne für Impulsvorträge eingeladen. Wer könnte Euch besser coachen\, als jemand\, der New Work seit vielen Jahren lebt: In Konzernen\, im produzierenden Mittelstand und in Startups. \n \n\nBildungszeit: \nDas IWT ist als Bildungseinrichtung im Sinne des §10 Absatz 3 BzG BW anerkannt\, somit können Sie für dieses Seminar Bildungszeit beantragen. Weitere Informationen zu Ihren persönlichen Voraussetzungen  sowie das Antragsformular finden Sie auf der Homepage des Regierungspräsidiums Baden-Württemberg https://rp.baden-wuerttemberg.de/Themen/Bildung/Seiten/Bildungszeit.aspx
URL:https://www.iwt-bodensee.de/event/intensivkurs-new-work-strategien/
LOCATION:RITZ Regionales Innovations- und Technologietransfer Zentrum\, Fallenbrunnen 14\, Friedrichshafen\, 88045\, Deutschland
CATEGORIES:Events
ATTACH;FMTTYPE=image/jpeg:https://www.iwt-bodensee.de/wp-content/uploads/2023/12/iStock-1295478271_k.jpg
ORGANIZER;CN="IWT Katrin Willamowski":MAILTO:willamowski@iwt-bodensee.de
END:VEVENT
END:VCALENDAR