BEGIN:VCALENDAR
VERSION:2.0
PRODID:-//IWT Wirtschaft und Technik GmbH - ECPv6.15.11//NONSGML v1.0//EN
CALSCALE:GREGORIAN
METHOD:PUBLISH
X-WR-CALNAME:IWT Wirtschaft und Technik GmbH
X-ORIGINAL-URL:https://www.iwt-bodensee.de
X-WR-CALDESC:Veranstaltungen für IWT Wirtschaft und Technik GmbH
REFRESH-INTERVAL;VALUE=DURATION:PT1H
X-Robots-Tag:noindex
X-PUBLISHED-TTL:PT1H
BEGIN:VTIMEZONE
TZID:Europe/Berlin
BEGIN:DAYLIGHT
TZOFFSETFROM:+0100
TZOFFSETTO:+0200
TZNAME:CEST
DTSTART:20230326T010000
END:DAYLIGHT
BEGIN:STANDARD
TZOFFSETFROM:+0200
TZOFFSETTO:+0100
TZNAME:CET
DTSTART:20231029T010000
END:STANDARD
BEGIN:DAYLIGHT
TZOFFSETFROM:+0100
TZOFFSETTO:+0200
TZNAME:CEST
DTSTART:20240331T010000
END:DAYLIGHT
BEGIN:STANDARD
TZOFFSETFROM:+0200
TZOFFSETTO:+0100
TZNAME:CET
DTSTART:20241027T010000
END:STANDARD
BEGIN:DAYLIGHT
TZOFFSETFROM:+0100
TZOFFSETTO:+0200
TZNAME:CEST
DTSTART:20250330T010000
END:DAYLIGHT
BEGIN:STANDARD
TZOFFSETFROM:+0200
TZOFFSETTO:+0100
TZNAME:CET
DTSTART:20251026T010000
END:STANDARD
END:VTIMEZONE
BEGIN:VEVENT
DTSTART;TZID=Europe/Berlin:20240405T090000
DTEND;TZID=Europe/Berlin:20240515T193000
DTSTAMP:20260424T111640
CREATED:20230912T132217Z
LAST-MODIFIED:20240124T151121Z
UID:49896-1712307600-1715801400@www.iwt-bodensee.de
SUMMARY:Level D - Zertifikat im Projektmanagement der PM-ZERT
DESCRIPTION:Das Institut für Weiterbildung\, Wissens- und Technologietransfer an der DHBW Ravensburg (IWT Wirtschaft und Technik GmbH) bietet die Durchführung eines Vorbereitungskurses mit anschließender Prüfung durch die PM-ZERT an\, nach deren erfolgreichem Bestehen das das Level D im Projektmanagement (Zertifizierungsstelle der GPM Deutsche Gesellschaft für Projektmanagement e. V.) erteilt wird. \nMit diesem Zertifikat gelingt der Nachweis\, dass erworbenes PM-Wissen dem aktuellen internationalen Standard entspricht. \nDas Seminar aus 34 Unterrichtseinheiten führt Sie im Wesentlichen in die Kontext- und Sozial-Kompetenzen des Projektmanagements ein. Zusätzlich zu einem ausführlichen Skript werden Übungen und Fallstudien bearbeitet. \nDas Seminar baut auf dem Basiszertifikat der GPM auf und erweitert Ihr Wissen hinsichtlich der Einordnung eines Projektes in seinen strategischen und kulturellen Kontext und vermittelt darüber hinaus Kompetenzen zum Konflikt- und Verhandlungsmanagement gemäß dem aktuellen ICB 4 Standard. \n  \nWeitere Informationen zum Basiszertifikat finden Sie unter dem Link:  \n  \nGPM Level D ist für Personen\, die ihr Wissen über die Grundlagen des Basiszertifikats hinaus erweitern möchten. \n  \nInhalte des Level D :\n\nEinordnung eines Projektes in seinen strategischen und kulturellen Kontext in seiner Organisation\nKlärung des Umgangs mit Governance-\, Compliance- und Machtfragen rund ums Projektmanagement\nEntwicklung weiterer Kompetenzen wie z.B. Konflikt- und Verhandlungsmanagement\n\nAbschluss: Level D im Projektmanagement (GPM) nach ICB4 Norm \nZielgruppe:\n\nStudierende der DHBW\, Alumni und Externe\n\n  \n\n  \n\n\n\nTermine:\nUhrzeit:\nOrt:\nBeschreibung:\n\n\n05.04. bis 06.04.2024\n09:00-18:00 Uhr\nDHBW Technikcampus\, 88045 Friedrichshafen\nKern-Seminar\n\n\n06.05. und 08.05.2024\n17:00-19:30 Uhr\nOnline über ZOOM\nPrüfungsvorbereitung\n\n\n13.05. und 15.05.2024\n17:00-19:30 Uhr\nOnline über ZOOM\nPrüfungsvorbereitung\n\n\nnoch abzustimmen\n\nPrüfungstermin in Präsenz ab 10 Teilnehmenden\, ansonsten individuell online nach Termin Verfügbarkeit der PM-Zert\ngeplanter Prüfungstermin\n\n\n\n  \n  \n\nKursgebühr (Mwst.-frei):\n\n420 € für Studierende (zzgl. GPM-Prüfungsgebühr von ca. € 250\,00 netto plus 70\,00 bei offenen Zertifizierungsrunden\, welche unbeeinflussbar ist und separat von der GPM in Rechnung gestellt wird)\n570 € für Alumni und Externe (zzgl. GPM-Prüfungsgebühr von ca. € 630\,00 netto plus 70\,00 bei offenen Zertifizierungsrunden\, welche unbeeinflussbar ist und separat von der GPM in Rechnung gestellt wird)\n\nAnbei finden Sie die aktuellen Prüfungsgebühren der GPM unter „Projektmanagement“ https://www.pm-zert.de/anmeldung/gebuehren \n\nTrainer:\n\nChristian Sturm\, Dipl.-Ing. (FH) Elektrotechnik\, Organisations- und Projektmanagementberater und Mitarbeiter der Daimler Truck AG\n\n\nAnmeldefrist:\n05.03.2024 \nHinweis: Kostenlose Stornierungen sind nur bis zur Anmeldefrist möglich. Die weiteren Stornobedingungen finden Sie in unseren AGB. \n\nBildungszeit: \nDas IWT ist als Bildungseinrichtung im Sinne des §10 Absatz 3 BzG BW anerkannt\, somit können Sie für dieses Seminar Bildungszeit beantragen. Weitere Informationen zu Ihren persönlichen Voraussetzungen  sowie das Antragsformular finden Sie auf der Homepage des Regierungspräsidiums Baden-Württemberg https://rp.baden-wuerttemberg.de/Themen/Bildung/Seiten/Bildungszeit.aspx
URL:https://www.iwt-bodensee.de/event/level-d-zertifikat-im-projektmanagement-der-pm-zert/
LOCATION:DHBW Ravensburg – Campus Friedrichshafen\, Fallenbrunnen 2\, Friedrichshafen\, 88045\, Deutschland
CATEGORIES:Events,Featured
ORGANIZER;CN="IWT Katrin Willamowski":MAILTO:willamowski@iwt-bodensee.de
END:VEVENT
END:VCALENDAR