BEGIN:VCALENDAR
VERSION:2.0
PRODID:-//IWT Wirtschaft und Technik GmbH - ECPv6.15.11//NONSGML v1.0//EN
CALSCALE:GREGORIAN
METHOD:PUBLISH
X-WR-CALNAME:IWT Wirtschaft und Technik GmbH
X-ORIGINAL-URL:https://www.iwt-bodensee.de
X-WR-CALDESC:Veranstaltungen für IWT Wirtschaft und Technik GmbH
REFRESH-INTERVAL;VALUE=DURATION:PT1H
X-Robots-Tag:noindex
X-PUBLISHED-TTL:PT1H
BEGIN:VTIMEZONE
TZID:Europe/Berlin
BEGIN:DAYLIGHT
TZOFFSETFROM:+0100
TZOFFSETTO:+0200
TZNAME:CEST
DTSTART:20230326T010000
END:DAYLIGHT
BEGIN:STANDARD
TZOFFSETFROM:+0200
TZOFFSETTO:+0100
TZNAME:CET
DTSTART:20231029T010000
END:STANDARD
BEGIN:DAYLIGHT
TZOFFSETFROM:+0100
TZOFFSETTO:+0200
TZNAME:CEST
DTSTART:20240331T010000
END:DAYLIGHT
BEGIN:STANDARD
TZOFFSETFROM:+0200
TZOFFSETTO:+0100
TZNAME:CET
DTSTART:20241027T010000
END:STANDARD
BEGIN:DAYLIGHT
TZOFFSETFROM:+0100
TZOFFSETTO:+0200
TZNAME:CEST
DTSTART:20250330T010000
END:DAYLIGHT
BEGIN:STANDARD
TZOFFSETFROM:+0200
TZOFFSETTO:+0100
TZNAME:CET
DTSTART:20251026T010000
END:STANDARD
END:VTIMEZONE
BEGIN:VEVENT
DTSTART;TZID=Europe/Berlin:20240206T180000
DTEND;TZID=Europe/Berlin:20240206T200000
DTSTAMP:20260420T023114
CREATED:20231211T182521Z
LAST-MODIFIED:20240112T132849Z
UID:50729-1707242400-1707249600@www.iwt-bodensee.de
SUMMARY:Maybach-Seminar „Energiewende – von unten!“
DESCRIPTION:…denn von oben wird es nichts. \nDie Dringlichkeit\, den Klimawandel zu stoppen\, wird immer offensichtlicher. Der jüngste Klimagipfel verdeutlichte erneut\, wie weit die Interessen der Teilnehmer auseinanderliegen und gemeinsames Handeln erscheint in weiter Ferne. Sowohl auf nationaler als auch auf internationaler Ebene fehlt es an einer effektiven Bündelung der Kräfte. Die Gesellschaft ist zerrütteter denn je und es scheint\, dass bedeutende Fortschritte in Bezug auf den Klimawandel ausbleiben. \n\n\n\nAngesichts dieser Herausforderungen stellt sich die Frage: Sollten wir nicht selbst die Ärmel hochkrempeln und aktiv werden? Diese Frage gewinnt an Relevanz\, insbesondere wenn die politischen und internationalen Anstrengungen nicht ausreichend sind. \nEs ist durchaus sinnvoll\, eigenverantwortlich zu handeln und Maßnahmen zu ergreifen. Doch welche Optionen stehen uns zur Verfügung? Welche Chancen und Risiken sind mit eigenem Handeln verbunden? Kann ein bestimmtes Areal\, wie beispielsweise der Fallenbrunnen in Zusammenarbeit mit den Stadtwerken\, der SIS\, der ZU und der DHBW\, „energetisch klimaneutral“ werden? \nDer Referent lotet die möglichen Konzepte aus und liefert konkrete Antworten auf die damit zusammenhängenden Fragen. Innovative Lösungen auf lokaler Ebene können wesentliche Beiträge zur Energiewende leisten. Er kommt zu dem Schluss\, dass es sinnvoll ist\, selbst aktiv zur Gestaltung einer nachhaltigen Energiewirtschaft – auch „im Kleinen“ – beizutragen und nicht auf nationale und internationale Maßnahmen zu warten. \n\n\n\n\n\n\nReferent: \n \nProf. Dr.-Ing. Martin Freitag \nEr absolvierte sein Studium der Fachrichtung „Thermischer und Hydraulischer Maschinenbau und Dieselmotoren“ und promovierte 1986 zu einem Messtechnik-Thema an LKW-Dieselmotoren. Nach einigen beruflichen Stationen war er in den 90er Jahren als Leiter der Entwicklung einer MTU-Dieselmotorenbaureihe vom Konzept bis zur Markteinführung tätig. Anschließend folgte der Ruf an die DHBW. Er war von 2009 bis 2017 Dekan der Fakultät Technik und Prorektor der DHBW Ravensburg und leitete zuvor den Studiengang Maschinenbau-Konstruktion. Heute ist er als Dozent mit verschiedenen Vorlesungen\, u. a. der Vorlesung „Energietechnik/Kraft-Wärme-Kopplung“\, aktiv. \n  \n\nDas Maybach-Seminar ist eine öffentliche Veranstaltungsreihe an der DHBW Ravensburg Campus Friedrichshafen in Zusammenarbeit mit dem IWT Institut für Weiterbildung\, Wissens- und Technologietransfer\, bei der in einem oder mehreren Vorträgen aktuelle Themen aus den Wirtschafts- und Ingenieurwissenschaften präsentiert und diskutiert werden. Zur Zielgruppe des Seminars gehört die allgemeine Öffentlichkeit\, dazu zählen Mitarbeiter der regionalen Industrie\, Angehörige der DHBW und anderer Hochschulen\, Privatpersonen sowie auch Studierende in höheren Semestern. \nDas IWT behält sich vor\, bei zu geringer Teilnehmerzahl oder aus anderen triftigen Gründen ein Seminar abzusagen. Es behält sich weiter vor\, auch kurzfristig einen Dozenten zu ersetzen.
URL:https://www.iwt-bodensee.de/event/maybach-seminar-energiewende/
LOCATION:RITZ Regionales Innovations- und Technologietransfer Zentrum\, Fallenbrunnen 14\, Friedrichshafen\, 88045\, Deutschland
CATEGORIES:Events,Featured
ATTACH;FMTTYPE=image/jpeg:https://www.iwt-bodensee.de/wp-content/uploads/2023/12/lightbulb-2581192_1280.jpg
ORGANIZER;CN="IWT Katrin Willamowski":MAILTO:willamowski@iwt-bodensee.de
END:VEVENT
END:VCALENDAR