BEGIN:VCALENDAR
VERSION:2.0
PRODID:-//IWT Wirtschaft und Technik GmbH - ECPv6.15.11//NONSGML v1.0//EN
CALSCALE:GREGORIAN
METHOD:PUBLISH
X-WR-CALNAME:IWT Wirtschaft und Technik GmbH
X-ORIGINAL-URL:https://www.iwt-bodensee.de
X-WR-CALDESC:Veranstaltungen für IWT Wirtschaft und Technik GmbH
REFRESH-INTERVAL;VALUE=DURATION:PT1H
X-Robots-Tag:noindex
X-PUBLISHED-TTL:PT1H
BEGIN:VTIMEZONE
TZID:Europe/Berlin
BEGIN:DAYLIGHT
TZOFFSETFROM:+0100
TZOFFSETTO:+0200
TZNAME:CEST
DTSTART:20230326T010000
END:DAYLIGHT
BEGIN:STANDARD
TZOFFSETFROM:+0200
TZOFFSETTO:+0100
TZNAME:CET
DTSTART:20231029T010000
END:STANDARD
BEGIN:DAYLIGHT
TZOFFSETFROM:+0100
TZOFFSETTO:+0200
TZNAME:CEST
DTSTART:20240331T010000
END:DAYLIGHT
BEGIN:STANDARD
TZOFFSETFROM:+0200
TZOFFSETTO:+0100
TZNAME:CET
DTSTART:20241027T010000
END:STANDARD
BEGIN:DAYLIGHT
TZOFFSETFROM:+0100
TZOFFSETTO:+0200
TZNAME:CEST
DTSTART:20250330T010000
END:DAYLIGHT
BEGIN:STANDARD
TZOFFSETFROM:+0200
TZOFFSETTO:+0100
TZNAME:CET
DTSTART:20251026T010000
END:STANDARD
END:VTIMEZONE
BEGIN:VEVENT
DTSTART;TZID=Europe/Berlin:20241016T100000
DTEND;TZID=Europe/Berlin:20241016T130000
DTSTAMP:20260420T103255
CREATED:20240719T075731Z
LAST-MODIFIED:20241014T131557Z
UID:52221-1729072800-1729083600@www.iwt-bodensee.de
SUMMARY:Peer Group 5. Treffen – „Personalentwicklung & Regionale Implementierung“
DESCRIPTION:„WIR KULTUR Handlungsspielraum für Personalabteilungen“ \nWir- oder Teamkultur\, New Leadership oder Co-Creation; Begriffe die wir derzeit ständig hören. Doch was bedeutet das konkret für die Umsetzung in der Personalarbeit? Wo liegt unser Handlungsspielraum und Beitrag zu einem so umfassenden Thema? \nNach einem Impulsvortrag von Renate Bleher\, Gründerin von bemun „Beratung Mensch und Unternehmen e.K.“\, steigen wir ein in den gemeinsamen Austausch. \nZum Ende tauchen wir noch ab und fragen uns: Und was tun\, wenn nicht alle im Unternehmen Schritt halten können bei dieser Veränderung? \n  \n \n  \nWas Sie erwartet\n \n\nImpulsvortrag von Renate Bleher „WIR KULTUR Handlungsspielraum für Personalabteilungen“\nWorkshop\nPlattform für Diskussionsrunden und Erfahrungsaustausch \nVorstellung aktueller Stand Förderprojekt\n\n  \nZielgruppe: HR-Abteilung\, Personalentwickler\, Ausbilder\, Geschäftsführer*innen \nGemeinsam mit Ihnen möchten wir über diese Themen sprechen\, welche Herausforderungen Ihr Unternehmen dabei hat oder wo Dinge bereits erfolgreich funktionieren. Die Peer Groups sind ein kostenfreies Angebot über den Verbund für Technologie und Bildung-vtb. Der Verbund für Technologie und Bildung ist einer von 53 Weiterbildungsverbünden deutschlandweit und wird gefördert vom Bundesministerium für Arbeit und Soziales. Alle Partnerorganisationen im Verbund werden zu unterschiedlichen Themen Peer Groups anbieten.\n \nNutzen Sie diese einzigartige Gelegenheit\, um wertvolle Ressourcen für die Transformation Ihres Unternehmens kennenzulernen und von Experten inspiriert zu werden. \nWir freuen uns auf Ihre Teilnahme! Die Veranstaltung ist kostenfrei. \n  \nRenate Bleher\, Gründerin von bemun  \n„Beratung Mensch und Unternehmen e.K.“\nIch begleite Unternehmen\, Chefs sowie\nPersonalabteilungen bei der Entwicklung und\nUmsetzung einer zukunftsweisenden\nPersonalstrategie. Der Schlüssel hierfür ist eine\ngelebte „WIR-Kultur“ auf allen Ebenen.\nUnternehmen ziehen dadurch Mitarbeitende an\,\ndie ihre Vision teilen\, mitgestalten und\numsetzen. Das macht es leichter für alle: Chefs\nund Mitarbeitende.\nEin „WIR“ ist immer stärker als ein „ICH“.\nDavon bin ich absolut überzeugt. \n  \n Sie waren bei den ersten Treffen nicht dabei? Es ist kein Problem\, auch noch jetzt beim 5. Treffen einzusteigen.  \n              
URL:https://www.iwt-bodensee.de/event/peer-group-5-treffen-personalentwicklung-regionale-implementierung/
LOCATION:RITZ Regionales Innovations- und Technologietransfer Zentrum\, Fallenbrunnen 14\, Friedrichshafen\, 88045\, Deutschland
CATEGORIES:Events,Featured
ATTACH;FMTTYPE=image/jpeg:https://www.iwt-bodensee.de/wp-content/uploads/2024/07/Persoanl.jpg
ORGANIZER;CN="IWT Katrin Willamowski":MAILTO:willamowski@iwt-bodensee.de
END:VEVENT
END:VCALENDAR