BEGIN:VCALENDAR
VERSION:2.0
PRODID:-//IWT Wirtschaft und Technik GmbH - ECPv6.15.11//NONSGML v1.0//EN
CALSCALE:GREGORIAN
METHOD:PUBLISH
X-WR-CALNAME:IWT Wirtschaft und Technik GmbH
X-ORIGINAL-URL:https://www.iwt-bodensee.de
X-WR-CALDESC:Veranstaltungen für IWT Wirtschaft und Technik GmbH
REFRESH-INTERVAL;VALUE=DURATION:PT1H
X-Robots-Tag:noindex
X-PUBLISHED-TTL:PT1H
BEGIN:VTIMEZONE
TZID:Europe/Berlin
BEGIN:DAYLIGHT
TZOFFSETFROM:+0100
TZOFFSETTO:+0200
TZNAME:CEST
DTSTART:20220327T010000
END:DAYLIGHT
BEGIN:STANDARD
TZOFFSETFROM:+0200
TZOFFSETTO:+0100
TZNAME:CET
DTSTART:20221030T010000
END:STANDARD
BEGIN:DAYLIGHT
TZOFFSETFROM:+0100
TZOFFSETTO:+0200
TZNAME:CEST
DTSTART:20230326T010000
END:DAYLIGHT
BEGIN:STANDARD
TZOFFSETFROM:+0200
TZOFFSETTO:+0100
TZNAME:CET
DTSTART:20231029T010000
END:STANDARD
BEGIN:DAYLIGHT
TZOFFSETFROM:+0100
TZOFFSETTO:+0200
TZNAME:CEST
DTSTART:20240331T010000
END:DAYLIGHT
BEGIN:STANDARD
TZOFFSETFROM:+0200
TZOFFSETTO:+0100
TZNAME:CET
DTSTART:20241027T010000
END:STANDARD
END:VTIMEZONE
BEGIN:VEVENT
DTSTART;TZID=Europe/Berlin:20230530T080000
DTEND;TZID=Europe/Berlin:20230603T170000
DTSTAMP:20260420T021345
CREATED:20230417T142719Z
LAST-MODIFIED:20230516T144830Z
UID:48242-1685433600-1685811600@www.iwt-bodensee.de
SUMMARY:Robot Operating System (ROS) Training Fallenbrunnen
DESCRIPTION:Learn the fundamentals behind the open source robotics framework – ROS \nSoftware developed with ROS tools is becoming more and more commonplace for applications such as robot manipulators\, service robots\, drones\, autonomous cars\, etc. In this 5-day training\, participants with none to basic knowledge of ROS will learn the skills and competences to configure and use ROS-based software solutions. Additionally\, the course introduces ROS 2 and how to utilize ROS knowledge to migrate to ROS 2.\n\nTarget Group:\n\n\n\n\nBeginner ROS developers and users\nStudents already acquainted with learning basics ROS\nAnyone interest to learn about basic concepts of ROS (with basic programming knowledge)\nAnyone curious about robotics and hands-on learning and training experience\n\nAfter this training\, the participant should be able to design essential ROS software and know where to find helpful information in the ROS ecosystem. Furthermore\, the participant learns the necessary components to transition from ROS to ROS 2. \n\n\nYou already have experience with Linux and Python and want to go deeper into industrial ROS 2? Feel free to send us an email to: willamowski@iwt-bodensee.de. We are currently working on a training for ROS 2 and would be happy to include you as an interested party. \n\n\n5-day training\n\nDay 1: introduction to Linux\, Shell Basic and introduction to Git\, Python basics \nDay 2: introduction and basic concept of ROS + workshop\, ROS programming and tools + workshop \nDay 3: robot description and transforms + workshop\, robot manipulation with MoveIt! + workshop\, hands on with real robot \nDay 4: navigation & path planning + workshop\, hands on with real hardware \nDay 5: introduction to ROS 2 \nThis training is given in English\, but all our trainers speak German and English. \nHere you may find the course plan. ROS Courseplan \n\nDates & Costs\ndate: 30.05.-03.06.2023 \nCosts: regular 2.990 € | student 1.490 €*  (*the billing address is decisive) \n\nregistration deadline: 10. Mai 2023\n\n\n\n\nMore Information about the training please click here!\n\n\n\nInstructors \nBenjamin Stähle M.Sc.\,\nHochschule Ravensburg Weingarten (RWU) \n \n \n  \n  \n  \n  \n  \n\n\n\n                                                                                                                                                                                                                                              Vishnuprasad Prachandabhanu M.Eng.\, \n                                                                                                                                                                                                                                              Fraunhofer-Institut\, Abteilung Roboter- und Assistenzsysteme \n\n\n\n\n\n\nThe IWT reserves the right to cancel a seminar if there are not enough number of participants or for other valid reasons. It also reserves the right to replace a lecturer at short notice. Please understand that the participation fee will be reimbursed or not payable only if you unsubscribe in writing before the registration deadline. 50% fee is charged in case of cancellation of participation after the deadline.
URL:https://www.iwt-bodensee.de/event/ros-training2023/
LOCATION:RITZ Regionales Innovations- und Technologietransfer Zentrum\, Fallenbrunnen 14\, Friedrichshafen\, 88045\, Deutschland
ATTACH;FMTTYPE=image/jpeg:https://www.iwt-bodensee.de/wp-content/uploads/2021/10/image00018-scaled-e1633597837285.jpeg
ORGANIZER;CN="IWT Katrin Willamowski":MAILTO:willamowski@iwt-bodensee.de
END:VEVENT
END:VCALENDAR