BEGIN:VCALENDAR
VERSION:2.0
PRODID:-//IWT Wirtschaft und Technik GmbH - ECPv6.15.11//NONSGML v1.0//EN
CALSCALE:GREGORIAN
METHOD:PUBLISH
X-WR-CALNAME:IWT Wirtschaft und Technik GmbH
X-ORIGINAL-URL:https://www.iwt-bodensee.de
X-WR-CALDESC:Veranstaltungen für IWT Wirtschaft und Technik GmbH
REFRESH-INTERVAL;VALUE=DURATION:PT1H
X-Robots-Tag:noindex
X-PUBLISHED-TTL:PT1H
BEGIN:VTIMEZONE
TZID:Europe/Berlin
BEGIN:DAYLIGHT
TZOFFSETFROM:+0100
TZOFFSETTO:+0200
TZNAME:CEST
DTSTART:20240331T010000
END:DAYLIGHT
BEGIN:STANDARD
TZOFFSETFROM:+0200
TZOFFSETTO:+0100
TZNAME:CET
DTSTART:20241027T010000
END:STANDARD
BEGIN:DAYLIGHT
TZOFFSETFROM:+0100
TZOFFSETTO:+0200
TZNAME:CEST
DTSTART:20250330T010000
END:DAYLIGHT
BEGIN:STANDARD
TZOFFSETFROM:+0200
TZOFFSETTO:+0100
TZNAME:CET
DTSTART:20251026T010000
END:STANDARD
BEGIN:DAYLIGHT
TZOFFSETFROM:+0100
TZOFFSETTO:+0200
TZNAME:CEST
DTSTART:20260329T010000
END:DAYLIGHT
BEGIN:STANDARD
TZOFFSETFROM:+0200
TZOFFSETTO:+0100
TZNAME:CET
DTSTART:20261025T010000
END:STANDARD
END:VTIMEZONE
BEGIN:VEVENT
DTSTART;TZID=Europe/Berlin:20250811T090000
DTEND;TZID=Europe/Berlin:20250829T143000
DTSTAMP:20260422T033504
CREATED:20250423T111059Z
LAST-MODIFIED:20250423T111620Z
UID:54169-1754902800-1756477800@www.iwt-bodensee.de
SUMMARY:Mathe-Basiskurs 2025 I Kurs 1 I 15-tägig
DESCRIPTION:Der Mathematik-Basiskurs erstreckt sich über drei Wochen und wendet sich an Studienanfänger*innen der Fakultät Technik der DHBW\, die ihre Kenntnisse in der Schulmathematik auffrischen bzw. festigen wollen. Ein starker Fokus liegt in diesem Kurs auch auf die Festigung der mathematischen Grundlagen\, da ein sicheres Grundlagenwissen für das technische Studium unabdingbar ist. \nEs ist Zeit eingeplant zum gemeinsamen Üben. Durch zusätzliche Aufgaben und Literaturhinweise soll aber auch zum Selbststudium und selber Üben animiert werden. In drei Wochen kann nicht die komplette Schulmathematik ab Mittelstufe erlernt und nachgeholt werden. \nZiel: Ziel dieses Kurses ist es\, die vorhandenen mathematischen Kenntnisse und Fähigkeiten nochmals zu wiederholen und das mathematische Grundlagenwissen zu festigen. Dadurch wird den Studierenden aller Technik-Studienrichtungen an der DHBW Ravensburg der Einstieg in die Mathe-Vorlesung erleichtert. \nKursinhalte:Die Inhalte sind an den Lehrstoff des allgemeinbildenden Gymnasiums in Baden-Württemberg angelehnt.Es wird die Mathematik von der Mittelstufe bis zum Abitur behandelt. Der Fokus liegt auf den Grundlagen\, da diese die Basis für alle weiteren Schritte sind. \n\nGrundlagen (Bruchrechnen\, binomische Formeln\, Rechnen mit Potenzen\, Wurzeln und Logarithmen\, Lösen quadratischer Gleichungen)\nFunktionen (lineare Funktionen\, Polynome\, Potenz- und Exponentialfunktionen)\nTrigonometrie (Trigonometrie im rechtwinkligen Dreieck\, Einheitskreis\, Bogenmass\, Sinus- und Cosinus-Funktion)\nDifferential-/Integralrechnung (geometrische Bedeutung der Ableitung und der Integration\, Ableitungsregeln\, Integrationsregeln wie partielle Integration\, Substitution)\nVektorrechnung (Skalar- und Vektorprodukt\, Darstellung von Geraden und Ebenen im Dreidimensionalen\, Abstandsbestimmungen)\n\nDer Kurs dient zur Wiederholung des relevanten Schulstoffs. Im Kurs werden die Inhalte passend zum Studium aufgearbeitet. Durch Ihre Teilnahme erreichen Sie so eine optimale Ausgangsbasis für die Vorlesungen. \n\nUnsere Teilnahme-Empfehlungen: \n\nZulassung über berufliche Qualifikation\nStudenten mit Fachhochschulreife\nStudenten mit Allgemeiner Hochschulreife und einer Mathematik-Note von maximal 10 Punkten\nStudenten mit Allgemeiner Hochschulreife\, welche länger als zwei Jahre zurückliegt\n\nEine weitere Entscheidungshilfe für die Auswahl des passenden Mathekurses kann unser Mathe-Selbsttest sein. \nAlternativ besteht die Möglichkeit der Teilnahme am Mathe-Auffrischungskurs (5 Tage) und/oder am Kurs Vektorrechnung (ebenfalls 4 Tage). \n\nKursgebühr:\n510\,00 € (Mwst.-frei) \n\nTermin:\n11.08. – 29.08.2025\nmontags – freitags von 09:00 – 14:30 Uhr* \n*Änderungen vorbehalten – Die Zeiten müssen ggf. an den Vorlesungsplan der Trainer*innen angepasst werden \n\nOrt:\nDHBW Ravensburg\, Campus Friedrichshafen \n\nTrainer:\nDiverse \n\nAnmeldefrist:\n13.07.2025 \nHinweis: Kostenlose Stornierungen sind nur bis zur Anmeldefrist möglich. Die weiteren Stornobedingungen finden Sie in unseren AGB. \n\nHinweise:\n\nBitte bringen Sie Schreibzeug sowie einen einfachen (nicht grafischen) Taschenrechner mit.\nDie Teilnehmerzahl ist beschränkt. Die Plätze werden nach Eingang der Anmeldungen vergeben.\nAlle Technik-Studierenden der DHBW besuchen denselben Mathe-Basiskurs\, da die nötigen Voraussetzungen für das Studium identisch sind.\nSofern 2 Gruppen parallel stattfinden\, behalten wir uns eine Gruppierung in die jeweiligen Studienrichtungen und/oder nach bestehenden Vorkenntnissen vor. Die Vorkenntnisse beziehen sich auf die o.g. Kursinhalte und werden im Anmeldevorgang abgefragt (nach Selbsteinschätzung der Teilnehmer).\nEine Gruppe besteht aus ca. 20 Teilnehmern. Sollte die Anzahl der Anmeldungen für 1 Gruppe zu hoch und für 2 Gruppen zu niedrig sein\, behalten wir uns vor\, ggf. getätigte Anmeldungen zu stornieren bzw. in andere Mathe-Basiskurse umzubuchen (nach Rücksprache).\n\n\nGUT ZU WISSEN:\nInformieren Sie sich über die Möglichkeit der Kostenübernahme bei Ihrem Dualen Partner. Übernimmt Ihr Dualer Partner die Kosten\, geben Sie bitte die korrekte Firmenanschrift als Rechnungsadresse an. \nDas IWT behält sich vor\, bei zu geringer Teilnehmerzahl oder aus anderen triftigen Gründen ein Seminar abzusagen. Es behält sich weiter vor auch kurzfristig einen Dozenten zu ersetzen. Bitte haben Sie Verständnis dafür\, dass nur bei schriftlicher Abmeldung bis zum Anmeldeschluss die Teilnahmegebühr erstattet bzw. nicht fällig wird. Die weiteren Stornobedingungen finden Sie in unseren AGB. \nHaben Sie Fragen?\nDann freuen wir uns auf Ihre Kontaktaufnahme.\nKati Holz\nWeiterbildung & Wissenstransfer\n+ 49 (0)7541 40294 – 22\nholz@iwt-bodensee.de
URL:https://www.iwt-bodensee.de/event/mathe-basiskurs-2025-i-kurs-1-i-15-taegig/
LOCATION:DHBW Ravensburg – Campus Friedrichshafen\, Fallenbrunnen 2\, Friedrichshafen\, 88045\, Deutschland
CATEGORIES:Featured,Quali_Duales_Studium
ATTACH;FMTTYPE=image/png:https://www.iwt-bodensee.de/wp-content/uploads/2019/03/Mathe_Basis.png
ORGANIZER;CN="IWT Kati Holz":MAILTO:holz@iwt-bodensee.de
END:VEVENT
BEGIN:VEVENT
DTSTART;TZID=Europe/Berlin:20250818T090000
DTEND;TZID=Europe/Berlin:20250822T143000
DTSTAMP:20260422T033504
CREATED:20250423T114223Z
LAST-MODIFIED:20250423T114223Z
UID:54226-1755507600-1755873000@www.iwt-bodensee.de
SUMMARY:Mathe-Auffrischungskurs für BWL-Studiengänge 2025 | Kurs 1 | 5-tägig
DESCRIPTION:Der einwöchige Mathematik-Auffrischungskurs wendet sich an Studienanfänger*innen der Fakultät Wirtschaft der DHBW\, die ihre Kenntnisse in der Schulmathematik auffrischen bzw. festigen wollen. Der Fokus liegt auf der Festigung der mathematischen Grundlagen. \nEs ist Zeit eingeplant zum gemeinsamen Üben. Durch zusätzliche Aufgaben und Literaturhinweise soll aber auch zum Selbststudium und selber Üben animiert werden. In einer Woche kann nicht die komplette Schulmathematik ab Mittelstufe erlernt und nachgeholt werden. \nZiel: Ziel dieses Kurses ist es\, die vorhandenen mathematischen Kenntnisse und Fähigkeiten nochmals „kurz und knackig“ zu wiederholen und das mathematische Grundlagenwissen zu festigen. Dadurch wird Studierenden aller BWL-Studienrichtungen an der DHBW Ravensburg der Einstieg in die Mathe-Vorlesung erleichtert. \nKursinhalte:Die Inhalte sind an den Lehrstoff des allgemeinbildenden Gymnasiums in Baden-Württemberg angelehnt.Der Fokus wird auf die Grundlagen gelegt\, da diese die Basis für alle weiteren Schritte sind. \n\nGrundlagen: Potenzieren\, Radizieren\, Logarithmieren und Rechenregeln; Prozentrechnen\, Summenzeichen\nAlgebra: Lösen von Gleichungen mit einer Variablen\, Lösung einer quadratischen Gleichung\, Lineare Gleichungssysteme mit mehreren Variablen\nAnalysis: Funktionen\, Stetigkeit\, Grenzwerte\, Ableitungen\, „Kurvendiskussion“\, Integralrechnung\, Stammfunktionen\nFinanzmathematik: geometrische Reihe\, Zins- und Zinseszinsrechnung\n\nDer Kurs dient zur Wiederholung des relevanten Schulstoffs. Durch Ihre Teilnahme erreichen Sie eine optimale Ausgangsbasis für die Vorlesungen.   \n\nUnsere Teilnahme-Empfehlungen:  \n\nStudenten mit Allgemeiner Hochschulreife und einer Mathematik-Note von maximal 9 Punkten\nStudenten mit Allgemeiner Hochschulreife\, welche länger als zwei Jahre zurückliegt\nStudenten mit Fachhochschulreife\nZulassung über berufliche Qualifikation\n\n\nKursgebühr:\n250\,00 € (Mwst.-frei) \n\nTermin:\n18.08. – 22.08.2025\nMo. – Fr. jeweils von 09:00 – 14:30 Uhr* \n* Änderungen vorbehalten\, die finalen Kurszeiten werden rechtzeitig vor Kursbeginn kommuniziert. \n\nOrt:\nDHBW Ravensburg\, Campus Ravensburg \n\nTrainer:\nDiverse \n\nAnmeldefrist:\n20.07.2025 \nHinweis: Kostenlose Stornierungen sind nur bis zur Anmeldefrist möglich. Die weiteren Stornobedingungen finden Sie in unseren AGB. \n\nHinweise:\n\nBitte bringen Sie Schreibzeug sowie einen einfachen (nicht grafischen) Taschenrechner mit.\nDie Teilnehmerzahl ist beschränkt. Die Plätze werden nach Eingang der Anmeldungen vergeben.\nAlle BWL-Studierenden der DHBW besuchen denselben Mathe-Auffrischungskurs\, da die nötigen Voraussetzungen für das Studium identisch sind.\nSofern 2 Gruppen parallel stattfinden\, behalten wir uns eine Gruppierung in die jeweiligen Studienrichtungen und/oder nach bestehenden Vorkenntnissen vor. Diese werden im Anmeldevorgang abgefragt.\nEine Gruppe besteht aus ca. 20 Teilnehmern. Sollte die Anzahl der Anmeldungen für 1 Gruppe zu hoch und für 2 Gruppen zu niedrig sein\, behalten wir uns vor\, ggf. getätigte Anmeldungen zu stornieren bzw. in andere Mathe-Auffrischungskurse umzubuchen (nach Rücksprache).\n\n\nGUT ZU WISSEN:\nInformieren Sie sich über die Möglichkeit der Kostenübernahme bei Ihrem Dualen Partner. Sofern Ihr Dualer Partner die Kosten übernimmt\, geben Sie bitte die Firmenanschrift als Rechnungsadresse an. \nDas IWT behält sich vor\, bei zu geringer Teilnehmerzahl oder aus anderen triftigen Gründen ein Seminar abzusagen. Es behält sich weiter vor auch kurzfristig einen Dozenten zu ersetzen. Bitte haben Sie Verständnis dafür\, dass nur bei schriftlicher Abmeldung bis zum Anmeldeschluss die Teilnahmegebühr erstattet bzw. nicht fällig wird. Die weiteren Stornobedingungen finden Sie in unseren AGB. \nHaben Sie Fragen?\nDann freuen wir uns auf Ihre Kontaktaufnahme.\nKati Holz\nWeiterbildung & Wissenstransfer\n+ 49 (0)7541 40294 – 22\nholz@iwt-bodensee.de
URL:https://www.iwt-bodensee.de/event/mathe-auffrischungskurs-fuer-bwl-studiengaenge-2025-kurs-1-5-taegig/
LOCATION:DHBW Ravensburg – Campus Ravensburg\, Marienplatz 2\, Ravensburg\, 88212
CATEGORIES:Featured,Quali_Duales_Studium
ATTACH;FMTTYPE=image/jpeg:https://www.iwt-bodensee.de/wp-content/uploads/2019/11/math-1547018_1280.jpg
ORGANIZER;CN="IWT Kati Holz":MAILTO:holz@iwt-bodensee.de
END:VEVENT
BEGIN:VEVENT
DTSTART;TZID=Europe/Berlin:20250818T090000
DTEND;TZID=Europe/Berlin:20250822T143000
DTSTAMP:20260422T033504
CREATED:20250423T114755Z
LAST-MODIFIED:20250423T114755Z
UID:54229-1755507600-1755873000@www.iwt-bodensee.de
SUMMARY:Mathe-Auffrischungskurs für BWL-Studiengänge 2025 | Kurs 2 - ONLINE | 5-tägig
DESCRIPTION:Der einwöchige Mathematik-Auffrischungskurs wendet sich an Studienanfänger*innen der Fakultät Wirtschaft der DHBW\, die ihre Kenntnisse in der Schulmathematik auffrischen bzw. festigen wollen. Der Fokus liegt auf der Festigung der mathematischen Grundlagen. \nEs ist Zeit eingeplant zum gemeinsamen Üben. Durch zusätzliche Aufgaben und Literaturhinweise soll aber auch zum Selbststudium und selber Üben animiert werden. In einer Woche kann nicht die komplette Schulmathematik ab Mittelstufe erlernt und nachgeholt werden. \nZiel: Ziel dieses Kurses ist es\, die vorhandenen mathematischen Kenntnisse und Fähigkeiten nochmals „kurz und knackig“ zu wiederholen und das mathematische Grundlagenwissen zu festigen. Dadurch wird Studierenden aller BWL-Studienrichtungen an der DHBW Ravensburg der Einstieg in die Mathe-Vorlesung erleichtert. \nKursinhalte:Die Inhalte sind an den Lehrstoff des allgemeinbildenden Gymnasiums in Baden-Württemberg angelehnt.Der Fokus wird auf die Grundlagen gelegt\, da diese die Basis für alle weiteren Schritte sind. \n\nGrundlagen: Potenzieren\, Radizieren\, Logarithmieren und Rechenregeln; Prozentrechnen\, Summenzeichen\nAlgebra: Lösen von Gleichungen mit einer Variablen\, Lösung einer quadratischen Gleichung\, Lineare Gleichungssysteme mit mehreren Variablen\nAnalysis: Funktionen\, Stetigkeit\, Grenzwerte\, Ableitungen\, „Kurvendiskussion“\, Integralrechnung\, Stammfunktionen\nFinanzmathematik: geometrische Reihe\, Zins- und Zinseszinsrechnung\n\nDer Kurs dient zur Wiederholung des relevanten Schulstoffs. Durch Ihre Teilnahme erreichen Sie eine optimale Ausgangsbasis für die Vorlesungen.   \n\nUnsere Teilnahme-Empfehlungen:  \n\nStudenten mit Allgemeiner Hochschulreife und einer Mathematik-Note von maximal 9 Punkten\nStudenten mit Allgemeiner Hochschulreife\, welche länger als zwei Jahre zurückliegt\nStudenten mit Fachhochschulreife\nZulassung über berufliche Qualifikation\n\n\nKursgebühr:\n250\,00 € (Mwst.-frei) \n\nTermin:\n18.08. – 22.08.2025\nMo. – Fr. jeweils von 09:00 – 14:30 Uhr* \n*Änderungen vorbehalten\, die finalen Kurszeiten werden rechtzeitig vor Kursbeginn kommuniziert. \n\nOrt:\nDieser Kurs wird als ONLINE-KURS angeboten und findet über ZOOM statt. \n\nTrainer:\nDiverse \n\nAnmeldefrist:\n20.07.2025 \nHinweis: Kostenlose Stornierungen sind nur bis zur o.g. Anmeldefrist möglich! Die weiteren Stornobedingungen finden Sie in unseren AGB. \n\nHinweise:\n\nBitte bringen Sie Schreibzeug sowie einen einfachen (nicht grafischen) Taschenrechner mit.\nDie Teilnehmerzahl ist beschränkt. Die Plätze werden nach Eingang der Anmeldungen vergeben.\nAlle BWL-Studierenden der DHBW besuchen denselben Mathe-Auffrischungskurs\, da die nötigen Voraussetzungen für das Studium identisch sind.\nSofern 2 Gruppen parallel stattfinden\, behalten wir uns eine Gruppierung in die jeweiligen Studienrichtungen und/oder nach bestehenden Vorkenntnissen vor. Diese werden im Anmeldevorgang abgefragt.\nEine Gruppe besteht aus ca. 20 Teilnehmern. Sollte die Anzahl der Anmeldungen für 1 Gruppe zu hoch und für 2 Gruppen zu niedrig sein\, behalten wir uns vor\, ggf. getätigte Anmeldungen zu stornieren bzw. in andere Mathe-Auffrischungskurse umzubuchen (nach Rücksprache).\n\n\nNoch ein Tipp:\nInformieren Sie sich über die Möglichkeit der Kostenübernahme bei Ihrem Dualen Partner. Sofern Ihr Dualer Partner die Kursgebühr übernimmt\, geben Sie bitte die Firmenanschrift als Rechnungsadresse an! \nDas IWT behält sich vor\, bei zu geringer Teilnehmerzahl oder aus anderen triftigen Gründen ein Seminar abzusagen. Es behält sich weiter vor auch kurzfristig einen Dozenten zu ersetzen. Bitte haben Sie Verständnis dafür\, dass nur bei schriftlicher Abmeldung bis zum Anmeldeschluss die Teilnahmegebühr erstattet bzw. nicht fällig wird. Die weiteren Stornobedingungen finden Sie in unseren AGB. \nHaben Sie Fragen?\nDann freuen wir uns auf Ihre Kontaktaufnahme.\nKati Holz\nWeiterbildung & Wissenstransfer\n+ 49 (0)7541 40294 – 22\nholz@iwt-bodensee.de
URL:https://www.iwt-bodensee.de/event/mathe-auffrischungskurs-fuer-bwl-studiengaenge-2025-kurs-2-online-5-taegig/
LOCATION:Digital über Zoom
CATEGORIES:Featured,Quali_Duales_Studium
ATTACH;FMTTYPE=image/jpeg:https://www.iwt-bodensee.de/wp-content/uploads/2019/11/math-1547018_1280.jpg
ORGANIZER;CN="IWT Kati Holz":MAILTO:holz@iwt-bodensee.de
END:VEVENT
END:VCALENDAR