BEGIN:VCALENDAR
VERSION:2.0
PRODID:-//IWT Wirtschaft und Technik GmbH - ECPv6.15.11//NONSGML v1.0//EN
CALSCALE:GREGORIAN
METHOD:PUBLISH
X-WR-CALNAME:IWT Wirtschaft und Technik GmbH
X-ORIGINAL-URL:https://www.iwt-bodensee.de
X-WR-CALDESC:Veranstaltungen für IWT Wirtschaft und Technik GmbH
REFRESH-INTERVAL;VALUE=DURATION:PT1H
X-Robots-Tag:noindex
X-PUBLISHED-TTL:PT1H
BEGIN:VTIMEZONE
TZID:Europe/Berlin
BEGIN:DAYLIGHT
TZOFFSETFROM:+0100
TZOFFSETTO:+0200
TZNAME:CEST
DTSTART:20240331T010000
END:DAYLIGHT
BEGIN:STANDARD
TZOFFSETFROM:+0200
TZOFFSETTO:+0100
TZNAME:CET
DTSTART:20241027T010000
END:STANDARD
BEGIN:DAYLIGHT
TZOFFSETFROM:+0100
TZOFFSETTO:+0200
TZNAME:CEST
DTSTART:20250330T010000
END:DAYLIGHT
BEGIN:STANDARD
TZOFFSETFROM:+0200
TZOFFSETTO:+0100
TZNAME:CET
DTSTART:20251026T010000
END:STANDARD
BEGIN:DAYLIGHT
TZOFFSETFROM:+0100
TZOFFSETTO:+0200
TZNAME:CEST
DTSTART:20260329T010000
END:DAYLIGHT
BEGIN:STANDARD
TZOFFSETFROM:+0200
TZOFFSETTO:+0100
TZNAME:CET
DTSTART:20261025T010000
END:STANDARD
END:VTIMEZONE
BEGIN:VEVENT
DTSTART;TZID=Europe/Berlin:20250915T090000
DTEND;TZID=Europe/Berlin:20250919T143000
DTSTAMP:20260422T021923
CREATED:20250423T110534Z
LAST-MODIFIED:20250423T110534Z
UID:54237-1757926800-1758292200@www.iwt-bodensee.de
SUMMARY:Mathe-Auffrischungskurs 2025 | DuO-Kurs | 5-tägig
DESCRIPTION:Der fünftägige Mathematik-Auffrischungskurs wendet sich an Studienanfänger*innen der Fakultät Technik der DHBW\, die ihre Kenntnisse in der Schulmathematik auffrischen bzw. festigen wollen. Das Angebot richtet sich an Erstsemester\, die bereits eine Studienplatzzusage an der DHBW haben und die zusätzlich eine Vereinbarung für ein Duales Orientierungsstudium mit ihrem Dualen Partner geschlossen haben. \nEs steht eine begrenzte Zeit zum gemeinsamen Üben zur Verfügung (gerade von schwierigeren Aufgaben). Durch zusätzliche Aufgaben und Literaturhinweise soll zum Selbststudium und selber Üben animiert werden. \nZiel: Ziel dieses Kurses ist es\, die vorhandenen mathematischen Kenntnisse und Fähigkeiten nochmals „kurz und knackig“ zu wiederholen\, um den Studierenden aller Technik-Studienrichtungen an der DHBW Ravensburg den Einstieg in die Mathe-Vorlesung zu erleichtern. \nKursinhalte:\nDie Inhalte sind an den Lehrstoff des allgemeinbildenden Gymnasiums in Baden-Württemberg angelehnt. \n\nFunktionen\nTrigonometrie\nDifferential-/Integralrechnung\nVektorrechnung\n\nDer Kurs dient zur Wiederholung des relevanten Schulstoffs. Im Kurs werden die Inhalte passend zum Studium aufgearbeitet. Durch Ihre Teilnahme erreichen Sie so eine optimale Ausgangsbasis für die Vorlesungen. \nSofern Vektorrechnung nicht Bestandteil des Schullehrplans war\, empfehlen wir zusätzlich die Belegung des Kurses Vektorrechnung. \nBei Bedarf eines ausführlicheren Kurses (mit stärkerem Fokus auf die mathematischen Grundlagen und mit mehr Zeit zum Üben) empfehlen wir den 15-tägigen Mathe-Basiskurs. \n\nKursgebühr:\n415\,00 € (Mwst.-frei) \n\nAb einer Teilnehmerzahl von 8 Studierenden garantieren wir die Durchführung des Kurses.\nBei mehr Teilnehmern gewähren wir einen Rabatt: ab 11 Teilnehmer – 15% des Kurspreises; ab 15 Teilnehmer – 20% des Kurspreises; ab 18 Teilnehmer – 25% des Kurspreises.\n\n\nTermin:\n15.09. – 19.09.2025\ntäglich von 09:00 – 14:30 Uhr* \n*Änderungen vorbehalten – Die Zeiten müssen ggf. an den Vorlesungsplan der Trainer*innen angepasst werden. \n\nOrt:\nDHBW Ravensburg\, Campus Friedrichshafen \n\nTrainer:\nDiverse \n\nAnmeldefrist:\n17.08.2025 \nHinweis: Kostenlose Stornierungen sind nur bis zur o.g. Anmeldefrist möglich. Die weiteren Stornobedingungen finden Sie in unseren AGB. \n\nHinweise:\n\nBitte bringen Sie Schreibzeug sowie einen einfachen (nicht grafischen) Taschenrechner mit.\nAlle Technik-Studierenden der DHBW besuchen denselben Mathe-Auffrischungskurs\, da die nötigen Voraussetzungen für das Studium identisch sind.\nSofern mehrere Gruppen parallel stattfinden\, behalten wir uns eine Gruppierung in die jeweiligen Studienrichtungen und/oder nach bestehenden Vorkenntnissen vor. Diese werden im Anmeldevorgang abgefragt.\nEine Gruppe besteht aus ca. 20 Teilnehmern.\n\n\nGUT ZU WISSEN:\nInformieren Sie sich über die Möglichkeit der Kostenübernahme bei Ihrem Dualen Partner. Sofern Ihr Dualer Partner die Kosten übernimmt\, geben Sie bitte die korrekte Firmenanschrift als Rechnungsadresse an. \nDas IWT behält sich vor\, bei zu geringer Teilnehmerzahl oder aus anderen triftigen Gründen ein Seminar abzusagen. Es behält sich weiter vor auch kurzfristig einen Dozenten zu ersetzen. Bitte haben Sie Verständnis dafür\, dass nur bei schriftlicher Abmeldung bis zum Anmeldeschluss die Teilnahmegebühr erstattet bzw. nicht fällig wird. Die weiteren Stornobedingungen finden Sie in unseren AGB. \nHaben Sie Fragen?\nDann freuen wir uns auf Ihre Kontaktaufnahme.\nKati Holz\nWeiterbildung & Wissenstransfer\n+ 49 (0)7541 40294 – 22\nholz@iwt-bodensee.de
URL:https://www.iwt-bodensee.de/event/mathe-auffrischungskurs-2025-duo-kurs-5-taegig/
LOCATION:DHBW Ravensburg – Campus Friedrichshafen\, Fallenbrunnen 2\, Friedrichshafen\, 88045\, Deutschland
CATEGORIES:Featured,Quali_Duales_Studium
ATTACH;FMTTYPE=image/png:https://www.iwt-bodensee.de/wp-content/uploads/2019/03/BB_mathe_auffrischung-1024x683.png
ORGANIZER;CN="IWT Kati Holz":MAILTO:holz@iwt-bodensee.de
END:VEVENT
END:VCALENDAR