BEGIN:VCALENDAR
VERSION:2.0
PRODID:-//IWT Wirtschaft und Technik GmbH - ECPv6.15.11//NONSGML v1.0//EN
CALSCALE:GREGORIAN
METHOD:PUBLISH
X-WR-CALNAME:IWT Wirtschaft und Technik GmbH
X-ORIGINAL-URL:https://www.iwt-bodensee.de
X-WR-CALDESC:Veranstaltungen für IWT Wirtschaft und Technik GmbH
REFRESH-INTERVAL;VALUE=DURATION:PT1H
X-Robots-Tag:noindex
X-PUBLISHED-TTL:PT1H
BEGIN:VTIMEZONE
TZID:Europe/Berlin
BEGIN:DAYLIGHT
TZOFFSETFROM:+0100
TZOFFSETTO:+0200
TZNAME:CEST
DTSTART:20240331T010000
END:DAYLIGHT
BEGIN:STANDARD
TZOFFSETFROM:+0200
TZOFFSETTO:+0100
TZNAME:CET
DTSTART:20241027T010000
END:STANDARD
BEGIN:DAYLIGHT
TZOFFSETFROM:+0100
TZOFFSETTO:+0200
TZNAME:CEST
DTSTART:20250330T010000
END:DAYLIGHT
BEGIN:STANDARD
TZOFFSETFROM:+0200
TZOFFSETTO:+0100
TZNAME:CET
DTSTART:20251026T010000
END:STANDARD
BEGIN:DAYLIGHT
TZOFFSETFROM:+0100
TZOFFSETTO:+0200
TZNAME:CEST
DTSTART:20260329T010000
END:DAYLIGHT
BEGIN:STANDARD
TZOFFSETFROM:+0200
TZOFFSETTO:+0100
TZNAME:CET
DTSTART:20261025T010000
END:STANDARD
END:VTIMEZONE
BEGIN:VEVENT
DTSTART;TZID=Europe/Berlin:20251201T090000
DTEND;TZID=Europe/Berlin:20251212T143000
DTSTAMP:20260421T213739
CREATED:20250423T122415Z
LAST-MODIFIED:20250707T120744Z
UID:54358-1764579600-1765549800@www.iwt-bodensee.de
SUMMARY:Physik-Auffrischungskurs 2025 | Kurs 2 | 10-tägig
DESCRIPTION:Der zweiwöchige Physik-Auffrischungskurs wendet sich an Studienanfänger*innen der Fakultät Technik der DHBW. In vielen Beispielen werden physikalische Zusammenhänge erörtert. Ebenso wird im Kurs der Umgang mit Formeln und Gleichungen beim Lösen von Aufgaben geübt; es wird immer wieder ein Bezug zu technischen bzw. naturwissenschaftlichen Beispielen hergestellt. \nEs ist Zeit eingeplant zum gemeinsamen Üben. Durch zusätzliche Aufgaben soll aber auch zum Selbststudium und selber Üben animiert werden. In 10 Tagen kann nicht die komplette Schulphysik erlernt oder nachgeholt werden. \nZiel: Ziel dieses Kurses ist es\, die vorhandenen physikalischen Kenntnisse und Fähigkeiten nochmals „kurz und knackig“ zu wiederholen\, um den Studierenden aller Technik-Studienrichtungen an der DHBW Ravensburg den Einstieg in die Physik-Vorlesung zu erleichtern. \nKursinhalte:Die Inhalte sind an den Lehrstoff des allgemeinbildenden Gymnasiums in Baden-Württemberg angelehnt. \n\nMechanik:\n\nKinematik\nDynamik\n\n\nStatik\nGrundlagen der Elektrotechnik\n\nelektrische und magnetische Felder\nStromkreise\nInduktion\n\n\n\nDer Kurs dient zur Wiederholung des relevanten Schulstoffs. Im Kurs werden die Inhalte passend zum Studium aufgearbeitet. Durch Ihre Teilnahme erreichen Sie so eine optimale Ausgangsbasis für die Vorlesungen. \n\nUnsere Teilnahme-Empfehlungen: \n\nStudenten mit Allgemeiner Hochschulreife\, die kein Physik in der Kursstufe belegt haben\nStudenten mit Allgemeiner Hochschulreife und einer Physik-Note von maximal 9 Punkten\nStudenten mit Allgemeiner Hochschulreife\, welche länger als zwei Jahre zurückliegt\nStudenten mit Fachhochschulreife\nZulassung über berufliche Qualifikation\n\nIn Ihrer Schulzeit wurde das Thema „Vektorrechnung“ im Matheunterricht nur am Rande behandelt oder vielleicht sogar gar nicht (da nicht Teil des Lehrplans)? In diesem Fall empfehlen wir Ihnen einen Kurs Vektorrechnung (4 Tage) bzw. einen Mathe-Basiskurs (3 Wochen) zu belegen. \n\nKursgebühr:\n405\,00 € (Mwst.-frei) \n\nTermine:\n01.12. – 12.12.2025 \njeweils von 09:00-14:30 Uhr* \n*Änderungen vorbehalten – Die Zeiten müssen ggf. an den Vorlesungsplan der Trainer*innen angepasst werden. \n\nOrt:\nDHBW Ravensburg\, Campus Friedrichshafen \n\nTrainer:\nDiverse \n\nAnmeldefrist:\n02.11.2025 \nHinweis: Kostenlose Stornierungen sind nur bis zur Anmeldefrist möglich. Die weiteren Stornobedingungen finden Sie in unseren AGB. \n\nHinweise:\n\nBitte bringen Sie Schreibzeug sowie einen einfachen (nicht grafischen) Taschenrechner mit.\nDie Teilnehmerzahl ist beschränkt. Die Plätze werden nach Eingang der Anmeldungen vergeben.\nSofern 2 Gruppen parallel stattfinden\, behalten wir uns eine Gruppierung in die jeweiligen Studienrichtungen und/oder nach bestehenden Vorkenntnissen (wie bspw. kein Physik in der Oberstufe) vor. Diese werden im Anmeldevorgang abgefragt.\nEine Gruppe besteht aus ca. 20 Teilnehmenden. Sollte die Anzahl der Anmeldungen für 1 Gruppe zu hoch und für 2 Gruppen zu niedrig sein\, behalten wir uns vor\, ggf. getätigte Anmeldungen zu stornieren bzw. in andere Physik-Auffrischungskurse umzubuchen (nach Rücksprache).\n\n\nGUT ZU WISSEN:\nInformieren Sie sich über die Möglichkeit der Kostenübernahme bei Ihrem Dualen Partner. Sofern Ihr Dualer Partner die Kursgebühr übernimmt\, geben Sie bitte die korrekte Firmenanschrift als Rechnungsadresse an. \nDas IWT behält sich vor\, bei zu geringer Teilnehmendenzahl oder aus anderen triftigen Gründen ein Seminar abzusagen. Es behält sich weiter vor auch kurzfristig einen Dozenten zu ersetzen. Bitte haben Sie Verständnis dafür\, dass nur bei schriftlicher Abmeldung bis zum Anmeldeschluss die Teilnahmegebühr erstattet bzw. nicht fällig wird. Die weiteren Stornobedingungen finden Sie in unseren AGB. \nHaben Sie Fragen?\nDann freuen wir uns auf Ihre Kontaktaufnahme.\nKati Holz\nWeiterbildung & Wissenstransfer\n+ 49 (0)7541 40294 – 22\nholz@iwt-bodensee.de
URL:https://www.iwt-bodensee.de/event/physik-auffrischungskurs-2025-kurs-2-10-taegig/
LOCATION:DHBW Ravensburg – Campus Friedrichshafen\, Fallenbrunnen 2\, Friedrichshafen\, 88045\, Deutschland
CATEGORIES:Featured,Quali_Duales_Studium
ATTACH;FMTTYPE=image/png:https://www.iwt-bodensee.de/wp-content/uploads/2019/03/physik.png
ORGANIZER;CN="IWT Kati Holz":MAILTO:holz@iwt-bodensee.de
END:VEVENT
BEGIN:VEVENT
DTSTART;TZID=Europe/Berlin:20251208T083000
DTEND;TZID=Europe/Berlin:20251210T133000
DTSTAMP:20260421T213739
CREATED:20250423T123231Z
LAST-MODIFIED:20250423T123848Z
UID:54345-1765182600-1765373400@www.iwt-bodensee.de
SUMMARY:Informatik-Vorkurs 2025 | Kurs 2 | 3-tägig
DESCRIPTION:Der Vorkurs Informatik richtet sich an alle Studienanfänger*innen aus Elektrotechnik\, Embedded Systems\, Luft- und Raumfahrttechnik\, Informatik und Wirtschaftsinformatik.. \nDer Kurs gibt einen Überblick über die wichtigsten Grundlagen der Informatik\, die in den Vorlesungen des Grundstudiums weiter vertieft werden. \nBeginnend mit den ersten Rechnern des 18. Jahrhunderts startet der Kurs mit einem Exkurs in die Geschichte und zeigt\, dass viele Entwicklungen von damals auch heute noch in unseren Computern verbaut sind – nur stark miniaturisiert. Im Gegensatz zur Software: Betriebssysteme und Programmierung werden immer komplexer\, die Bedienung von Rechnern immer leichter. Mit dem digitalen Zeitalter hielten bits und bytes Einzug. Sie bilden die Grundlagen des heutigen elektronischen Rechnens und werden vielleicht in 50 Jahren durch Qubits als Schlüsseltechnologie des 21. Jahrhunderts abgelöst \nBasierend auf heutigen Prozessoren informiert der Vorkurs über deren Entwicklung und technische Grenzen und zeigt elementare digitale Schaltungen. Heutige Rechnersysteme werden immer kleiner. Der Kurs stellt u. a. den Raspberry Pi als universelle Entwicklungsplattform vor. Solche Rechnerplattformen sind heute in vielen Produkten enthalten\, u.a. in Produktionsmaschinen\, Luft-und Raumfahrt oder Automobil. \nEin Programm zu schreiben gehört zu den Grundfähigkeiten jedes Ingenieurs. Heute werden verschiedenste Programmiersprachen und -techniken zweckgebunden eingesetzt. Im Rahmen des Vorkurses werden die grundlegenden Programmbestandteile und eine Auswahl der wichtigsten Algorithmen erläutert. \nDie Erfahrung zeigt\, dass eine Vertiefung in eine Programmiersprache ohne darauf folgende unmittelbare Anwendung nicht zielführend ist. Mit den erworbenen Kenntnissen wird das Verständnis einer Programmiersprache im Rahmen einer konkreten Aufgabe wesentlich erleichtert. \nZiel:Ziel dieses Kurses ist es\, Grundlagen der Informatik zu vermitteln um Lücken der verschiedenen Kenntnisstände zu schließen und gut vorbereitet ins Studium zu starten. \nInhalte: \n\nVerständnis von Computern\, Digitaler Systeme und Rechnerarchitekturen\, Grundlagen Betriebssysteme\, Netzwerke\, Internet\nGrundlagen Digitaltechnik: vom Bit zum Prozessor\, elementare Digitalschaltungen\nProzessoren und Architekturen\nSingle-Board Computing am Beispiel des Raspberry PI\nEinführung in die Programmierung: grundlegende Programmkonstrukte\nProgrammierparadigmen: funktional vs. objektorientiert\nBeispiele elementarer Algorithmen mit Python 3\n\n\nKursgebühr:\n145\,00 € (Mwst.-frei) \n\nTermin:\n08.12. – 10.12.2025\nMontag – Mittwoch jeweils von 08:30 – 13:30 Uhr* \n*Änderungen vorbehalten – Die Zeiten müssen ggf. an den Vorlesungsplan der Trainer angepasst werden. \n\nOrt:\nDHBW Ravensburg\, Campus Friedrichshafen \n\nTrainer:\nHerr Prof. Dr.-Ing. Judt\, Studiengangsleiter Informatik \n\nAnmeldefrist:\n09.11.2025 \nHinweis: Kostenlose Stornierungen sind nur bis zur o.g. Anmeldefrist möglich. Die weiteren Stornobedingungen finden Sie in unseren AGB. \n\nHinweise:\n\nBitte bringen Sie zu diesem Kurs Ihren eigenen Laptop mit.\nDie Teilnehmerzahl ist beschränkt. Die Plätze werden nach Eingang der Anmeldungen vergeben.\n\n\nGUT ZU WISSEN:\nInformieren Sie sich über die Möglichkeit der Kostenübernahme bei Ihrem Dualen Partner. Sofern Ihr Dualer Partner die Kursgebühr übernimmt\, geben Sie bitte die korrekte Firmenanschrift als Rechnungsadresse an. \nDas IWT behält sich vor\, bei zu geringer Teilnehmerzahl oder aus anderen triftigen Gründen ein Seminar abzusagen. Es behält sich weiter vor auch kurzfristig einen Dozenten zu ersetzen. Bitte haben Sie Verständnis dafür\, dass nur bei schriftlicher Abmeldung bis zum Anmeldeschluss die Teilnahmegebühr erstattet bzw. nicht fällig wird. Die weiteren Stornobedingungen finden Sie in unseren AGB. \nHaben Sie Fragen?\nDann freuen wir uns auf Ihre Kontaktaufnahme.\nKati Holz\nWeiterbildung & Wissenstransfer\n+ 49 (0)7541 40294 – 22\nholz@iwt-bodensee.de
URL:https://www.iwt-bodensee.de/event/informatik-vorkurs-2025-kurs-2-3-taegig/
LOCATION:DHBW Ravensburg – Campus Friedrichshafen\, Fallenbrunnen 2\, Friedrichshafen\, 88045\, Deutschland
CATEGORIES:Featured,Quali_Duales_Studium
ATTACH;FMTTYPE=image/jpeg:https://www.iwt-bodensee.de/wp-content/uploads/2024/04/processor-2217771_1280.jpg
ORGANIZER;CN="IWT Kati Holz":MAILTO:holz@iwt-bodensee.de
END:VEVENT
END:VCALENDAR