BEGIN:VCALENDAR
VERSION:2.0
PRODID:-//IWT Wirtschaft und Technik GmbH - ECPv6.15.11//NONSGML v1.0//EN
CALSCALE:GREGORIAN
METHOD:PUBLISH
X-ORIGINAL-URL:https://www.iwt-bodensee.de
X-WR-CALDESC:Veranstaltungen für IWT Wirtschaft und Technik GmbH
REFRESH-INTERVAL;VALUE=DURATION:PT1H
X-Robots-Tag:noindex
X-PUBLISHED-TTL:PT1H
BEGIN:VTIMEZONE
TZID:Europe/Berlin
BEGIN:DAYLIGHT
TZOFFSETFROM:+0100
TZOFFSETTO:+0200
TZNAME:CEST
DTSTART:20250330T010000
END:DAYLIGHT
BEGIN:STANDARD
TZOFFSETFROM:+0200
TZOFFSETTO:+0100
TZNAME:CET
DTSTART:20251026T010000
END:STANDARD
BEGIN:DAYLIGHT
TZOFFSETFROM:+0100
TZOFFSETTO:+0200
TZNAME:CEST
DTSTART:20260329T010000
END:DAYLIGHT
BEGIN:STANDARD
TZOFFSETFROM:+0200
TZOFFSETTO:+0100
TZNAME:CET
DTSTART:20261025T010000
END:STANDARD
BEGIN:DAYLIGHT
TZOFFSETFROM:+0100
TZOFFSETTO:+0200
TZNAME:CEST
DTSTART:20270328T010000
END:DAYLIGHT
BEGIN:STANDARD
TZOFFSETFROM:+0200
TZOFFSETTO:+0100
TZNAME:CET
DTSTART:20271031T010000
END:STANDARD
END:VTIMEZONE
BEGIN:VEVENT
DTSTART;TZID=Europe/Berlin:20260416T173000
DTEND;TZID=Europe/Berlin:20260509T204500
DTSTAMP:20260421T184104
CREATED:20250728T081632Z
LAST-MODIFIED:20260407T095431Z
UID:56096-1776360600-1778359500@www.iwt-bodensee.de
SUMMARY:AdA – Ausbildung der Ausbilder – April/Mai 2026 - MIX Form
DESCRIPTION:AUSGEBUCHT!\nVorbereitungskurs\nauf die AEVO-Prüfung der IHK\nAusbilder und Ausbilderinnen haben für die Ausbildung in anerkannten Ausbildungsberufen nach dem Berufsbildungsgesetz den Erwerb der berufs- und arbeitspädagogischen Fertigkeiten\, Kenntnisse und Fähigkeiten nachzuweisen. Wer als Ausbilderin oder Ausbilder im Unternehmen tätig werden möchte\, muss vorher die Prüfung nach der Ausbilder-Eignungsverordnung (AEVO) absolvieren. \nDer neue Rahmenplan legt den Fokus darauf\, dass Ausbilderinnen und Ausbilder das Ausbilden nicht mehr als reine Unterweisung der Auszubildenden betrachten\, sondern als aktive Begleitung des Lernprozesses. Sie motivieren zum Lernen\, vermitteln umfassendes Fachwissen und praktische Fähigkeiten\, und unterstützen die persönliche Entwicklung der jungen Menschen. \n\nWas dich erwartet:\nIn nur 32 Unterrichtseinheiten werden die Kerninhalte vermittelt und du lernst die wichtigsten Inhalte der vier Handlungsfelder kennen: \n\nAusbildungsvoraussetzungen prüfen und Ausbildung planen\,\nAusbildung vorbereiten und bei der Einstellung von Auszubildenden mitwirken\,\nAusbildung durchführen und\nAusbildung abschließen.\n\nDa es sich um ein intensives Kompaktseminar handelt\, liegt der Fokus auf den prüfungsrelevanten Kernthemen. Nicht alle Inhalte können im Seminar bis ins kleinste Detail behandelt werden. Daher ist dein aktives Selbststudium ein zentraler Bestandteil des Lernerfolgs und es ist wichtig ausreichend Zeit für das Selbststudium einzuplanen. \nWir empfehlen dir\, den Kurs in den höheren Semestern zu besuchen\, wenn du schon Basiswissen aus den Vorlesungen wie u.a. Arbeitsrecht und Personalwesen hast. \n  \nKurszeiten:\n\n\n\nDonnerstag\n16.04.2026\n17:30 – 20:45 Uhr\nOnline\n\n\nDienstag\n21.04.2026\n17:30 – 20:45 Uhr\nOnline\n\n\nDonnerstag\n23.04.2026\n17:30 – 20:45 Uhr\nOnline\n\n\nDienstag\n28.04.2026\n17:30 – 20:45 Uhr\nOnline\n\n\nDonnerstag\n30.04.2026\n17:30 – 20:45 Uhr\nOnline\n\n\nDienstag\n05.05.2026\n17:30 – 20:45 Uhr\nOnline\n\n\nSamstag\n09.05.2026\n09:00 – 16:15 Uhr\nPräsenz\n\n\n\n  \nKursgebühr:\nStudenten der DHBW Ravensburg:         245\,00 €\nAlumni der DHBW Ravensburg:              295\,00  € \nAls VFA-Mitglied erhältst Du 10% Ermäßigung auf diesen Kurs – insgesamt max. 50\,- € pro Studienjahr. Hierzu nach dem Seminar einfach die Rechnung beim Verein VFA – Förderer und Alumni der DHBW-Ravensburg e.V. einreichen. \nHinzu kommt eine IHK-Prüfungsgebühr von 220\,00 €\, die separat von der IHK Bodensee-Oberschwaben in Rechnung gestellt wird. \nBei freier Kapazität können auch Studierende anderer Hochschulen und Externe am Kurs teilnehmen. \n\n  \nUnterlagen:\n\nBereits enthalten: \n\nArbeitsmappe „Handlungsfeld Ausbildung“\, FELDHAUS Verlag\nDigitales Skript (PDF-Dateien)\n\nSeparat zu beschaffen: \n\n„Ausbildung & Beruf – Rechte und Pflichten während der Berufsausbildung“\nUmfang: 326 Seiten\, kostenlos erhältlich über das Bundesministerium für Bildung und Forschung\nArbeitsgesetze\, BECK Verlag\nISBN: 978‑3‑406‑84571‑0\, 108. neu bearbeitete Auflage\, erschienen am 19.02.2026\n\n\n  \nReferentin:\n \nLara Lutz hat einen Master in Angewandter Psychologie und verfügt über langjährige Erfahrung entlang des gesamten Entwicklungswegs von Mitarbeitenden\, von der Auswahl und Einführung über die Förderung bis hin zur langfristigen Begleitung im Berufsleben. Durch ihre Tätigkeit in unterschiedlichen Unternehmen und Branchen hat sie ein tiefes Verständnis für wirksame Lern- und Entwicklungsprozesse aufgebaut. Im Kurs vermittelt sie praxisnahe Methoden zur gezielten Begleitung und Förderung von Auszubildenden. \n  \n  \n\nAnmeldefrist: 18.03.2026\nHinweis: Kostenlose Stornierungen sind nur bis zur ursprünglichen Anmeldefrist möglich. Die weiteren Stornobedingungen findest Du in unseren AGB. \n  \nAEVO Prüfung:\nSobald du dich für den Vorbereitungskurs registriert hast\, kannst du dich auf der Homepage der IHK auch schon für einen AEVO-Prüfungstermin anmelden. Die Termine sind schnell ausgebucht! \nDie AEVO Prüfung besteht aus einem schriftlichen und einem praktischen Teil. \n\nDer schriftliche Teil der bundesweit einheitlichen AEVO Prüfung dauert 180 Minuten. Die schriftliche AEVO Prüfung wird in reiner Multiple-Choice-Form mit 80 Fragen durchgeführt. \nDer praktische Teil der AEVO-Prüfung besteht aus der Präsentation einer Ausbildungssituation und einem Fachgespräch. Er dauert insgesamt höchstens 30 Minuten. Als Grundlage hierfür wählst du eine berufstypische Ausbildungssituation aus. Die Präsentation der Ausbildungssituation soll dabei nicht länger als 15 Minuten dauern. Im anschließenden Fachgespräch erläuterst du die Auswahl und Gestaltung der Ausbildungssituation. \n\n  \nNoch ein paar wichtige Tipps:\n\nDie AEVO-Prüfung ist eine offizielle Prüfung der Industrie- und Handelskammer Bodensee-                   Oberschwaben.\nDie IHK ist für die AEVO-Prüfung und das damit verbundene An- und Abmeldeverfahren zuständig!\nDie IHK stellt die Prüfungsgebühr in Rechnung und informiert dich über die Einzelheiten der                   Prüfung.\nDie Anmeldung zur Prüfung ist verbindlich. Melde dich nur zur Prüfung an\, wenn du sicher bist\,      dass du den Termin wahrnehmen kannst.\nDie Online-Anmeldung zur Prüfung muss spätestens 4 Wochen vor dem ersten Prüfungstermin           erfolgen.\nDas Sonder-Stornierungsrecht gilt nur\, wenn der Vorbereitungskurs abgesagt wird.\nWenn dein Ausbildungspartner die Prüfungsgebühren übernimmt\, muss eine Kostenübernahme-         Erklärung direkt an die IHK geschickt werden (Herr Kuduzovic: kuduzovic@weingarten.ihk.de).\n\n  \nNützliche Links:\nAEVO-Prüfungstermine \nIHK-Teilnahmebedingungen \nhttps://www.dihk-bildung.shop/aevo-pruefung/#home \nhttps://www.dihk-bildung.shop/alle-lehrgaenge/ausbildung-der-ausbilder/ \n 
URL:https://www.iwt-bodensee.de/event/ada-ausbildung-der-ausbilder-april-mai-2026-mix-form/
LOCATION:Digital über Zoom
CATEGORIES:Featured,Studienangebot
ATTACH;FMTTYPE=image/jpeg:https://www.iwt-bodensee.de/wp-content/uploads/2025/04/Ausbilder.jpg
ORGANIZER;CN="IWT Carmen Mutscheller":MAILTO:mutscheller@iwt-bodensee.de
END:VEVENT
BEGIN:VEVENT
DTSTART;TZID=Europe/Berlin:20260505T180000
DTEND;TZID=Europe/Berlin:20260505T200000
DTSTAMP:20260421T184104
CREATED:20260413T070709Z
LAST-MODIFIED:20260413T070709Z
UID:57792-1778004000-1778011200@www.iwt-bodensee.de
SUMMARY:MAYBACH-SEMINAR: „Die sieben Todsünden der Softwareentwicklung“
DESCRIPTION:Eine ganzheitliche Betrachtung der Elektronik- & Softwareentwicklung  \nSeit Jahrzehnten gibt es in der Technik einen durchgehenden Trend zu mehr Elektronik und vor allem zu mehr Software. Das gilt für viele Bereiche\, insbesondere aber für die Automobilindustrie.  Hierbei handelt es sich nicht um ein lineares Wachstum\, sondern entsprechend dem Mooreschen Gesetz um einen exponentiellen Anstieg. Damit einher ging eine Explosion der Komplexität.  \nUm die Herausforderung zu meistern\, wurden Prozesse\, Methoden und Technik entwickelt. Eine lange Zeit konnte damit die Effizienz und auch die Qualität ausreichend gesteigert werden. Das systematische Problem der steigenden Komplexität wurde teilweise kompensiert. \n In den letzten Jahren gelingt dies aber immer weniger\, die Kosten und Entwicklungszeiten wachsen immer weiter an. Die Prozesse werden immer aufwendiger. Der gewünschte Effekt\, einen kontrollierten und vorhersehbaren Software-Entstehungsprozess zu erhalten\, stellte sich aber nicht ein. Diese Problematik ist so umfassend\, dass die Ausmaße längst von außen sichtbar sind. Große und kleine Firmen können dem Druck der Konkurrenz nicht mehr standhalten\, ein in Jahrzehnten geschaffener Vorsprung geht verloren. Die wirtschaftlichen Schwierigkeiten einer ganzen Industrie sind nicht mehr zu leugnen.  \nBei genauerer Betrachtung zeigt sich eine Fehlentwicklung – die Prozesse übersehen den Menschen – die einige Kreatur die zu komplexen Entwicklungsleistungen fähig ist. Die dahinterstehende Problematik lässt sich in sieben Elementarfaktoren einteilen\, die bei Missachtung zum Scheitern führen.  \n  \n\nReferentenvorstellung\n \nDipl.-Ing. (FH) Oliver Buntz ist seit über drei Jahrzehnten in der Elektronik- und Automobiltechnik tätig. Nach seiner Ausbildung bei EnBW und dem Wehrdienst in der Elektronikstaffel der Luftwaffe studierte er Elektrotechnik an der FH Konstanz. Er arbeitete zunächst in der Entwicklung von Steuerungen für Werkzeugmaschinen und wechselte später zu einem US‑Automobilzulieferer. Zuletzt verantwortete er bei ZF die Entwicklung weltweit eingesetzter Airbag-Steuergeräte. Nebenberuflich wirkt er in einem Ingenieurbüro für Haushaltsgeräteelektronik mit. Seine Laufbahn ist geprägt                                          von tiefgehender Expertise in funktionaler Sicherheit und sicherheitskritischer                                          Elektronik. \n\nDas Maybach-Seminar ist eine öffentliche Veranstaltungsreihe an der DHBW Ravensburg Campus Friedrichshafen in Zusammenarbeit mit dem IWT Institut für Weiterbildung\, Wissens- und Technologietransfer\, bei der in einem oder mehreren Vorträgen aktuelle Themen aus den Wirtschafts- und Ingenieurwissenschaften präsentiert und diskutiert werden. \nZur Zielgruppe des Seminars gehört die allgemeine Öffentlichkeit\, dazu zählen Mitarbeiter der regionalen Industrie\, Angehörige der DHBW und anderer Hochschulen\, Privatpersonen sowie auch Studierende in höheren Semestern. \nDas IWT behält sich vor\, bei zu geringer Teilnehmerzahl oder aus anderen triftigen Gründen ein Seminar abzusagen. Es behält sich weiter vor\, auch kurzfristig einen Dozenten zu ersetzen.
URL:https://www.iwt-bodensee.de/event/maybach-seminar-die-sieben-todsuenden-der-softwareentwicklung/
LOCATION:RITZ Regionales Innovations- und Technologietransfer Zentrum\, Fallenbrunnen 14\, Friedrichshafen\, 88045\, Deutschland
CATEGORIES:Events,Featured
ATTACH;FMTTYPE=image/jpeg:https://www.iwt-bodensee.de/wp-content/uploads/2026/03/iStock-2149809166.jpg
ORGANIZER;CN="IWT Katrin Willamowski":MAILTO:willamowski@iwt-bodensee.de
END:VEVENT
END:VCALENDAR