BEGIN:VCALENDAR
VERSION:2.0
PRODID:-//IWT Wirtschaft und Technik GmbH - ECPv6.15.11//NONSGML v1.0//EN
CALSCALE:GREGORIAN
METHOD:PUBLISH
X-ORIGINAL-URL:https://www.iwt-bodensee.de
X-WR-CALDESC:Veranstaltungen für IWT Wirtschaft und Technik GmbH
REFRESH-INTERVAL;VALUE=DURATION:PT1H
X-Robots-Tag:noindex
X-PUBLISHED-TTL:PT1H
BEGIN:VTIMEZONE
TZID:Europe/Berlin
BEGIN:DAYLIGHT
TZOFFSETFROM:+0100
TZOFFSETTO:+0200
TZNAME:CEST
DTSTART:20250330T010000
END:DAYLIGHT
BEGIN:STANDARD
TZOFFSETFROM:+0200
TZOFFSETTO:+0100
TZNAME:CET
DTSTART:20251026T010000
END:STANDARD
BEGIN:DAYLIGHT
TZOFFSETFROM:+0100
TZOFFSETTO:+0200
TZNAME:CEST
DTSTART:20260329T010000
END:DAYLIGHT
BEGIN:STANDARD
TZOFFSETFROM:+0200
TZOFFSETTO:+0100
TZNAME:CET
DTSTART:20261025T010000
END:STANDARD
BEGIN:DAYLIGHT
TZOFFSETFROM:+0100
TZOFFSETTO:+0200
TZNAME:CEST
DTSTART:20270328T010000
END:DAYLIGHT
BEGIN:STANDARD
TZOFFSETFROM:+0200
TZOFFSETTO:+0100
TZNAME:CET
DTSTART:20271031T010000
END:STANDARD
END:VTIMEZONE
BEGIN:VEVENT
DTSTART;TZID=Europe/Berlin:20260523T100000
DTEND;TZID=Europe/Berlin:20260523T180000
DTSTAMP:20260425T140509
CREATED:20260120T093352Z
LAST-MODIFIED:20260422T095506Z
UID:57413-1779530400-1779559200@www.iwt-bodensee.de
SUMMARY:Dein Finanzkompass: Mit interaktiven Lernmethoden zum nachhaltigen Vermögensaufbau
DESCRIPTION:Dieser Online-Workshop bietet Studierenden die einzigartige Gelegenheit\, fundierte finanzielle Bildung durch praxisorientierte Ansätze zu erlangen. Der zentrale Fokus liegt auf der smarten Haushaltsführung als Basis\, um anschließend den langfristigen und nachhaltigen Vermögensaufbau zu starten. Die Teilnehmer erlernen\, das eigene Budget zu steuern und das frei gewordene Kapital mithilfe von Aktien\, Anleihen und ETFs gewinnbringend anzulegen. \nInteraktive Lernmethoden helfen dabei\, die komplexe Theorie in spielerischer Weise zu erleben und sofort anzuwenden. So werden aktiv finanzielle Kompetenzen entwickelt und das Fundament für die finanzielle Unabhängigkeit gelegt. \nDer Schwerpunkt des Workshops liegt auf zwei Säulen: \n1. Smarte Haushaltsführung \n\nEinnahmen und Ausgaben systematisch planen\, verfolgen und steuern.\nVorstellung und Anwendung effektiver Budgetierungs-Methoden.\n\n2. Fundierter Vermögensaufbau \n\nInvestieren und nachhaltige Anlagestrategien einfach erklärt.\nETFs und der Zinseszinseffekt: Was sind ETFs\, wie funktionieren sie und wie nutzt du die                     immense Kraft des Zinseszinseffekts (besonders als junger Anleger)?\nErste Anlagestrategien für das Depot verstehen.\nPortfoliostrategie mit Aktien\, Anleihen und ETFs.\nVermeidung typischer Anlagefehler.\n\nInteraktive Spiele:\nKahoot-Quiz zur Überprüfung des Finanzwissens (Dauer: 10-12 Minuten) \nSimulationsspiel zum Vermögensaufbau (Dauer: max. 120 Minuten) \nKurstermin & Kursort: \nSa. 23.05.2026 \n10:00 – 18:00 Uhr inkl. einer Stunde Pause \nOnline via Zoom \nZielgruppe: Studierende und Schüler \nMindestteilnehmerzahl: 10 \nKursgebühr: 125\,00 € inkl. Softwarenutzung für Kahoot-Quiz und Simulationsspiel \nEARLY BIRD AKTION: \nDie ersten 10 Anmeldungen erhalten als Gratis Bonus ein Exemplar des Buches “Dein Finanzkompass” im Wert von 19\,90 € dazu.  \nAnmeldefrist:  24.04.2026 – Anmeldungen sind weiterhin möglich! \nHinweis: Kostenlose Stornierungen sind nur bis zur Anmeldefrist möglich. Die weiteren Stornobedingungen findest du in unseren AGB. \nDozent: \nDr. Jean-Marie Schwarzkopf  ist Lehrkraft für Wirtschaftswissenschaft und Fachleiter für finanzielle Bildung. \nNach seinem Studium für das Lehramt an Gymnasien in den Fächern Wirtschaft und Recht sowie Geographie an der Universität Bayreuth sammelte er neun Jahre lang Erfahrung als Gymnasiallehrer in Hamburg. \nZudem ist er als Dozent am Landesinstitut Hamburg tätig und Autor für die Plattform Teach Economy\, auf der er Lernmaterialien zu Themen der finanziellen Grundbildung entwickelt. \n  \nWeitere Informationen zu Dr. Schwarzkopf: \nhttps://dein-finanzkompass.com/uebermich/ \n  \n 
URL:https://www.iwt-bodensee.de/event/dein-finanzkompass-mit-interaktiven-lernmethoden-zum-nachhaltigen-vermoegensaufbau/
LOCATION:Digital über Zoom
CATEGORIES:Schülerangebot,Studienangebot
ATTACH;FMTTYPE=image/jpeg:https://www.iwt-bodensee.de/wp-content/uploads/2026/01/iStock-1050881944_bearbeitet.jpg
ORGANIZER;CN="IWT Carmen Mutscheller":MAILTO:mutscheller@iwt-bodensee.de
END:VEVENT
END:VCALENDAR