BEGIN:VCALENDAR
VERSION:2.0
PRODID:-//IWT Wirtschaft und Technik GmbH - ECPv6.15.11//NONSGML v1.0//EN
CALSCALE:GREGORIAN
METHOD:PUBLISH
X-ORIGINAL-URL:https://www.iwt-bodensee.de
X-WR-CALDESC:Veranstaltungen für IWT Wirtschaft und Technik GmbH
REFRESH-INTERVAL;VALUE=DURATION:PT1H
X-Robots-Tag:noindex
X-PUBLISHED-TTL:PT1H
BEGIN:VTIMEZONE
TZID:Europe/Berlin
BEGIN:DAYLIGHT
TZOFFSETFROM:+0100
TZOFFSETTO:+0200
TZNAME:CEST
DTSTART:20240331T010000
END:DAYLIGHT
BEGIN:STANDARD
TZOFFSETFROM:+0200
TZOFFSETTO:+0100
TZNAME:CET
DTSTART:20241027T010000
END:STANDARD
BEGIN:DAYLIGHT
TZOFFSETFROM:+0100
TZOFFSETTO:+0200
TZNAME:CEST
DTSTART:20250330T010000
END:DAYLIGHT
BEGIN:STANDARD
TZOFFSETFROM:+0200
TZOFFSETTO:+0100
TZNAME:CET
DTSTART:20251026T010000
END:STANDARD
BEGIN:DAYLIGHT
TZOFFSETFROM:+0100
TZOFFSETTO:+0200
TZNAME:CEST
DTSTART:20260329T010000
END:DAYLIGHT
BEGIN:STANDARD
TZOFFSETFROM:+0200
TZOFFSETTO:+0100
TZNAME:CET
DTSTART:20261025T010000
END:STANDARD
END:VTIMEZONE
BEGIN:VEVENT
DTSTART;TZID=Europe/Berlin:20250825T090000
DTEND;TZID=Europe/Berlin:20250903T150000
DTSTAMP:20260422T004923
CREATED:20240910T105203Z
LAST-MODIFIED:20240910T105203Z
UID:52646-1756112400-1756911600@www.iwt-bodensee.de
SUMMARY:SAP-Zertifizierungskurs TS410 - Online - August 2025
DESCRIPTION:Das Institut für Weiterbildung\, Wissens- und Technologietransfer an der DHBW Ravensburg (IWT Wirtschaft und Technik GmbH) bietet die Durchführung eines Vorbereitungskurses für das anerkannte Zertifikat „SAP Certified Business Associate with SAP S/4HANA“ an\, das u.a. eine erste Grundlage für eine Tätigkeit im Consulting-Umfeld bietet bzw. erfahrungsgemäß den Bewerbungsprozess in größeren Betrieben erleichtert. \nGegenstand des Kurses ist der Aufbau des SAP S/4HANA-Systems und dessen Funktionalität. \nDer Kurs befähigt Sie: \n\ndie grundlegenden Geschäftsprozesse wie Source to Pay\, Design to Operate und Lead to Cash sowie deren Integrationsaspekte innerhalb von SAP S/4HANA zu erklären.\nzu verstehen\, wie Financial Accounting\, Management Accounting\, Warehouse Management\, Project Management\, Enterprise Asset Management und Human Capital Management funktionieren und mit obengenannten Prozessen integriert sind.\n\nInhalt:\n\nSAP S/4HANA Enterprise Management: Überblick\nSAP FIORI UX: das neue User Interface\nSystemweite Konzepte\nRecord to Report Prozess\nHire to Retire Prozess\nSource to Pay Prozess\nWarehouse Management und Bestandsführung\nDesign to Operate Prozess\nLead to Cash Prozess\nSAP Projektsystem (PS)\nEnterprise Asset Management (EAM) \n\n\nTermin: \n\n25.08. – 03.09.2025  jeweils von 09:00 -15:00 Uhr\, online über ZOOM.\nEine Teilnahme an allen Tagen ist nicht erforderlich.\n\nDer Kurs wird über ein E-Learning-System unterstützt. Beispiele aus der Industrie\, zahlreiche Medien und Aufzeichnungen\, sowie beispielshafte Prüfungsfragen stehen Ihnen für die optimale Prüfungsvorbereitung zur Verfügung. \nEine kompetente Vor- und Nachbetreuung ist über unseren Kursdozenten gewährleistet. \nEs wird ein Selbststudium der Teilnehmer*innen von mindestens 3 Tagen vorausgesetzt. \n\nVoraussetzungen:\n\n\nGrundlagen BWL\, diese können sich auch mit dem Kurs der vhb.org  „Finanzmanagement und Finanzanalyse“\, Lektion 1 angeeignet werden. Dieser Kurs ist kostenfrei.\nStandard PC mit Windows 10 oder MacBook mit macOS\n\n\nZielgruppe:\nStudierende der DHBW \n\nKursgebühr (Mwst.-frei):\n495\,00 € für Studierende (zzgl. Prüfungsgebühr von ca. 150\,00 € netto\, welche separat gebucht werden muss\, weitere Infos zur Prüfung folgen im Kurs) \n\nTrainer:\nErnst Schulten \n\nAnmeldefrist:\n27.07.2025 \nHinweis: Kostenlose Stornierungen sind nur bis zur Anmeldefrist möglich. Die weiteren Stornobedingungen finden Sie in unseren AGB. \n\nBildungszeit: \nDas IWT ist als Bildungseinrichtung im Sinne des §10 Absatz 3 BzG BW anerkannt\, somit können Sie für dieses Seminar Bildungszeit beantragen. Weitere Informationen zu Ihren persönlichen Voraussetzungen  sowie das Antragsformular finden Sie auf der Homepage des Regierungspräsidiums Baden-Württemberg https://rp.baden-wuerttemberg.de/Themen/Bildung/Seiten/Bildungszeit.aspx
URL:https://www.iwt-bodensee.de/event/sap-zertifizierungskurs-ts410-online-august-2025/
LOCATION:Digital über Zoom
CATEGORIES:Featured,Studienangebot
ATTACH;FMTTYPE=image/jpeg:https://www.iwt-bodensee.de/wp-content/uploads/2021/11/desk-geff05f879_1920.jpg
ORGANIZER;CN="IWT Katrin Willamowski":MAILTO:willamowski@iwt-bodensee.de
END:VEVENT
BEGIN:VEVENT
DTSTART;TZID=Europe/Berlin:20250903T083000
DTEND;TZID=Europe/Berlin:20250905T133000
DTSTAMP:20260422T004924
CREATED:20250423T122659Z
LAST-MODIFIED:20250423T122659Z
UID:54232-1756888200-1757079000@www.iwt-bodensee.de
SUMMARY:Informatik-Vorkurs 2025 | DuO-Kurs | 3-tägig
DESCRIPTION:Der Vorkurs Informatik richtet sich an alle Studienanfänger*innen aus Elektrotechnik\, Embedded Systems\, Luft- und Raumfahrttechnik\, Informatik und Wirtschaftsinformatik. Der DuO-Kurs richtet sich an Erstsemester\, die bereits eine Studienplatzzusage an der DHBW haben und die zusätzlich eine Vereinbarung für ein Duales Orientierungsstudium mit ihrem Dualen Partner geschlossen haben. \nDer Kurs gibt einen Überblick über die wichtigsten Grundlagen der Informatik\, die in den Vorlesungen des Grundstudiums weiter vertieft werden. \nBeginnend mit den ersten Rechnern des 18. Jahrhunderts startet der Kurs mit einem Exkurs in die Geschichte und zeigt\, dass viele Entwicklungen von damals auch heute noch in unseren Computern verbaut sind – nur stark miniaturisiert. Im Gegensatz zur Software: Betriebssysteme und Programmierung werden immer komplexer\, die Bedienung von Rechnern immer leichter. Mit dem digitalen Zeitalter hielten bits und bytes Einzug. Sie bilden die Grundlagen des heutigen elektronischen Rechnens und werden vielleicht in 50 Jahren durch Qubits als Schlüsseltechnologie des 21. Jahrhunderts abgelöst \nBasierend auf heutigen Prozessoren informiert der Vorkurs über deren Entwicklung und technische Grenzen und zeigt elementare digitale Schaltungen. Heutige Rechnersysteme werden immer kleiner. Der Kurs stellt u. a. den Raspberry Pi als universelle Entwicklungsplattform vor. Solche Rechnerplattformen sind heute in vielen Produkten enthalten\, u.a. in Produktionsmaschinen\, Luft-und Raumfahrt oder Automobil. \nEin Programm zu schreiben gehört zu den Grundfähigkeiten jedes Ingenieurs. Heute werden verschiedenste Programmiersprachen und -techniken zweckgebunden eingesetzt. Im Rahmen des Vorkurses werden die grundlegenden Programmbestandteile und eine Auswahl der wichtigsten Algorithmen erläutert. \nDie Erfahrung zeigt\, dass eine Vertiefung in eine Programmiersprache ohne darauf folgende unmittelbare Anwendung nicht zielführend ist. Mit den erworbenen Kenntnissen wird das Verständnis einer Programmiersprache im Rahmen einer konkreten Aufgabe wesentlich erleichtert. \nZiel:Ziel dieses Kurses ist es\, Grundlagen der Informatik zu vermitteln um Lücken der verschiedenen Kenntnisstände zu schließen und gut vorbereitet ins Studium zu starten. \nInhalte: \n\nVerständnis von Computern\, Digitaler Systeme und Rechnerarchitekturen\, Grundlagen Betriebssysteme\, Netzwerke\, Internet\nGrundlagen Digitaltechnik: vom Bit zum Prozessor\, elementare Digitalschaltungen\nProzessoren und Architekturen\nSingle-Board Computing am Beispiel des Raspberry PI\nEinführung in die Programmierung: grundlegende Programmkonstrukte\nProgrammierparadigmen: funktional vs. objektorientiert\nBeispiele elementarer Algorithmen mit Python 3\n\n\nKursgebühr:\n250\,00 € (Mwst.-frei) \n\nAb einer Teilnehmerzahl von 8 Studierenden garantieren wir die Durchführung des Kurses.\nBei mehr Teilnehmern gewähren wir einen Rabatt: ab 11 Teilnehmer – 10% des Kurspreises; ab 15 Teilnehmer – 15% des Kurspreises; ab 18 Teilnehmer – 20% des Kurspreises.\n\n\nTermin:\n03.09. – 05.09.2025\nMi. – Fr. jeweils von 08:30 – 13:30 Uhr* \n*Änderungen vorbehalten – Die Zeiten müssen ggf. an den Vorlesungsplan der Trainer*innen angepasst werden. \n\nOrt:\nDHBW Ravensburg\, Campus Friedrichshafen \n\nTrainer:\nHerr Prof. Dr.-Ing. Judt\, Studiengangsleiter Informatik \n\nAnmeldefrist:\n03.08.2025 \nHinweis: Kostenlose Stornierungen sind nur bis zur o.g. Anmeldefrist möglich. Die weiteren Stornobedingungen finden Sie in unseren AGB. \n\nHinweise:\n\nBitte bringen Sie zu diesem Kurs Ihren eigenen Laptop mit.\nDie Teilnehmerzahl ist beschränkt. Die Plätze werden nach Eingang der Anmeldungen vergeben.\n\n\nGUT ZU WISSEN:\nInformieren Sie sich über die Möglichkeit der Kostenübernahme bei Ihrem Dualen Partner. Sofern Ihr Dualer Partner die Kosten übernimmt geben Sie bitte die Firmenanschrift als Rechnungsadresse an. \nDas IWT behält sich vor\, bei zu geringer Teilnehmerzahl oder aus anderen triftigen Gründen ein Seminar abzusagen. Es behält sich weiter vor auch kurzfristig einen Dozenten zu ersetzen. Bitte haben Sie Verständnis dafür\, dass nur bei schriftlicher Abmeldung bis zum Anmeldeschluss die Teilnahmegebühr erstattet bzw. nicht fällig wird. Die weiteren Stornobedingungen finden Sie in unseren AGB. \nHaben Sie Fragen?\nDann freuen wir uns auf Ihre Kontaktaufnahme.\nKati Holz\nWeiterbildung & Wissenstransfer\nTel: +49 7541 / 40294 – 22\nholz@iwt-bodensee.de
URL:https://www.iwt-bodensee.de/event/informatik-vorkurs-2025-duo-kurs-3-taegig/
LOCATION:DHBW Ravensburg – Campus Friedrichshafen\, Fallenbrunnen 2\, Friedrichshafen\, 88045\, Deutschland
CATEGORIES:Featured
ATTACH;FMTTYPE=image/jpeg:https://www.iwt-bodensee.de/wp-content/uploads/2024/04/processor-2217771_1280.jpg
ORGANIZER;CN="IWT Kati Holz":MAILTO:holz@iwt-bodensee.de
END:VEVENT
BEGIN:VEVENT
DTSTART;TZID=Europe/Berlin:20250915T090000
DTEND;TZID=Europe/Berlin:20250919T143000
DTSTAMP:20260422T004924
CREATED:20250423T110534Z
LAST-MODIFIED:20250423T110534Z
UID:54237-1757926800-1758292200@www.iwt-bodensee.de
SUMMARY:Mathe-Auffrischungskurs 2025 | DuO-Kurs | 5-tägig
DESCRIPTION:Der fünftägige Mathematik-Auffrischungskurs wendet sich an Studienanfänger*innen der Fakultät Technik der DHBW\, die ihre Kenntnisse in der Schulmathematik auffrischen bzw. festigen wollen. Das Angebot richtet sich an Erstsemester\, die bereits eine Studienplatzzusage an der DHBW haben und die zusätzlich eine Vereinbarung für ein Duales Orientierungsstudium mit ihrem Dualen Partner geschlossen haben. \nEs steht eine begrenzte Zeit zum gemeinsamen Üben zur Verfügung (gerade von schwierigeren Aufgaben). Durch zusätzliche Aufgaben und Literaturhinweise soll zum Selbststudium und selber Üben animiert werden. \nZiel: Ziel dieses Kurses ist es\, die vorhandenen mathematischen Kenntnisse und Fähigkeiten nochmals „kurz und knackig“ zu wiederholen\, um den Studierenden aller Technik-Studienrichtungen an der DHBW Ravensburg den Einstieg in die Mathe-Vorlesung zu erleichtern. \nKursinhalte:\nDie Inhalte sind an den Lehrstoff des allgemeinbildenden Gymnasiums in Baden-Württemberg angelehnt. \n\nFunktionen\nTrigonometrie\nDifferential-/Integralrechnung\nVektorrechnung\n\nDer Kurs dient zur Wiederholung des relevanten Schulstoffs. Im Kurs werden die Inhalte passend zum Studium aufgearbeitet. Durch Ihre Teilnahme erreichen Sie so eine optimale Ausgangsbasis für die Vorlesungen. \nSofern Vektorrechnung nicht Bestandteil des Schullehrplans war\, empfehlen wir zusätzlich die Belegung des Kurses Vektorrechnung. \nBei Bedarf eines ausführlicheren Kurses (mit stärkerem Fokus auf die mathematischen Grundlagen und mit mehr Zeit zum Üben) empfehlen wir den 15-tägigen Mathe-Basiskurs. \n\nKursgebühr:\n415\,00 € (Mwst.-frei) \n\nAb einer Teilnehmerzahl von 8 Studierenden garantieren wir die Durchführung des Kurses.\nBei mehr Teilnehmern gewähren wir einen Rabatt: ab 11 Teilnehmer – 15% des Kurspreises; ab 15 Teilnehmer – 20% des Kurspreises; ab 18 Teilnehmer – 25% des Kurspreises.\n\n\nTermin:\n15.09. – 19.09.2025\ntäglich von 09:00 – 14:30 Uhr* \n*Änderungen vorbehalten – Die Zeiten müssen ggf. an den Vorlesungsplan der Trainer*innen angepasst werden. \n\nOrt:\nDHBW Ravensburg\, Campus Friedrichshafen \n\nTrainer:\nDiverse \n\nAnmeldefrist:\n17.08.2025 \nHinweis: Kostenlose Stornierungen sind nur bis zur o.g. Anmeldefrist möglich. Die weiteren Stornobedingungen finden Sie in unseren AGB. \n\nHinweise:\n\nBitte bringen Sie Schreibzeug sowie einen einfachen (nicht grafischen) Taschenrechner mit.\nAlle Technik-Studierenden der DHBW besuchen denselben Mathe-Auffrischungskurs\, da die nötigen Voraussetzungen für das Studium identisch sind.\nSofern mehrere Gruppen parallel stattfinden\, behalten wir uns eine Gruppierung in die jeweiligen Studienrichtungen und/oder nach bestehenden Vorkenntnissen vor. Diese werden im Anmeldevorgang abgefragt.\nEine Gruppe besteht aus ca. 20 Teilnehmern.\n\n\nGUT ZU WISSEN:\nInformieren Sie sich über die Möglichkeit der Kostenübernahme bei Ihrem Dualen Partner. Sofern Ihr Dualer Partner die Kosten übernimmt\, geben Sie bitte die korrekte Firmenanschrift als Rechnungsadresse an. \nDas IWT behält sich vor\, bei zu geringer Teilnehmerzahl oder aus anderen triftigen Gründen ein Seminar abzusagen. Es behält sich weiter vor auch kurzfristig einen Dozenten zu ersetzen. Bitte haben Sie Verständnis dafür\, dass nur bei schriftlicher Abmeldung bis zum Anmeldeschluss die Teilnahmegebühr erstattet bzw. nicht fällig wird. Die weiteren Stornobedingungen finden Sie in unseren AGB. \nHaben Sie Fragen?\nDann freuen wir uns auf Ihre Kontaktaufnahme.\nKati Holz\nWeiterbildung & Wissenstransfer\n+ 49 (0)7541 40294 – 22\nholz@iwt-bodensee.de
URL:https://www.iwt-bodensee.de/event/mathe-auffrischungskurs-2025-duo-kurs-5-taegig/
LOCATION:DHBW Ravensburg – Campus Friedrichshafen\, Fallenbrunnen 2\, Friedrichshafen\, 88045\, Deutschland
CATEGORIES:Featured,Quali_Duales_Studium
ATTACH;FMTTYPE=image/png:https://www.iwt-bodensee.de/wp-content/uploads/2019/03/BB_mathe_auffrischung-1024x683.png
ORGANIZER;CN="IWT Kati Holz":MAILTO:holz@iwt-bodensee.de
END:VEVENT
BEGIN:VEVENT
DTSTART;TZID=Europe/Berlin:20250922T090000
DTEND;TZID=Europe/Berlin:20250926T143000
DTSTAMP:20260422T004924
CREATED:20250423T113546Z
LAST-MODIFIED:20250423T113546Z
UID:54243-1758531600-1758897000@www.iwt-bodensee.de
SUMMARY:Mathe-Auffrischungskurs für BWL-Studiengänge 2025 | DuO-Kurs | 5-tägig
DESCRIPTION:Der einwöchige Mathematik-Auffrischungskurs wendet sich an Studienanfänger*innen der Fakultät Wirtschaft der DHBW\, die ihre Kenntnisse in der Schulmathematik auffrischen bzw. festigen wollen. Der Fokus liegt auf der Festigung der mathematischen Grundlagen. \nEs ist Zeit eingeplant zum gemeinsamen Üben. Durch zusätzliche Aufgaben und Literaturhinweise soll aber auch zum Selbststudium und selber Üben animiert werden. In einer Woche kann nicht die komplette Schulmathematik ab Mittelstufe erlernt und nachgeholt werden. \nZiel: Ziel dieses Kurses ist es\, die vorhandenen mathematischen Kenntnisse und Fähigkeiten nochmals „kurz und knackig“ zu wiederholen und das mathematische Grundlagenwissen zu festigen. Dadurch wird Studierenden aller BWL-Studienrichtungen an der DHBW Ravensburg der Einstieg in die Mathe-Vorlesung erleichtert. \nKursinhalte:Die Inhalte sind an den Lehrstoff des allgemeinbildenden Gymnasiums in Baden-Württemberg angelehnt.Der Fokus wird auf die Grundlagen gelegt\, da diese die Basis für alle weiteren Schritte sind. \n\nGrundlagen: Potenzieren\, Radizieren\, Logarithmieren und Rechenregeln; Prozentrechnen\, Summenzeichen\nAlgebra: Lösen von Gleichungen mit einer Variablen\, Lösung einer quadratischen Gleichung\, Lineare Gleichungssysteme mit mehreren Variablen\nAnalysis: Funktionen\, Stetigkeit\, Grenzwerte\, Ableitungen\, „Kurvendiskussion“\, Integralrechnung\, Stammfunktionen\nFinanzmathematik: geometrische Reihe\, Zins- und Zinseszinsrechnung\n\nDer Kurs dient zur Wiederholung des relevanten Schulstoffs. Durch Ihre Teilnahme erreichen Sie eine optimale Ausgangsbasis für die Vorlesungen.   \n\nUnsere Teilnahme-Empfehlungen:  \n\nStudenten mit Allgemeiner Hochschulreife und einer Mathematik-Note von maximal 9 Punkten\nStudenten mit Allgemeiner Hochschulreife\, welche länger als zwei Jahre zurückliegt\nStudenten mit Fachhochschulreife\nZulassung über berufliche Qualifikation\n\n\nKursgebühr:\n415\,00 € (Mwst.-frei) \n\nAb einer Teilnehmerzahl von 8 Studierenden garantieren wir die Durchführung des Kurses.\nBei mehr Teilnehmern gewähren wir einen Rabatt: ab 11 Teilnehmer – 10% des Kurspreises; ab 15 Teilnehmer – 15% des Kurspreises; ab 18 Teilnehmer – 20% des Kurspreises.\n\n\nTermin:\n22.09. – 26.09.2025\nMo. – Fr. jeweils von 09:00 – 14:30 Uhr* \n*Änderungen vorbehalten\, die finalen Uhrzeiten werden rechtzeitig vor Kursbeginn kommuniziert. \n\nOrt:\nDHBW Ravensburg\, Campus Ravensburg \n\nTrainer:\nDiverse \n\nAnmeldefrist:\n24.08.2025 \nHinweis: Kostenlose Stornierungen sind nur bis zur o.g. Anmeldefrist möglich. Die weiteren Stornobedingungen finden Sie in unseren AGB. \n\nHinweise:\n\nBitte bringen Sie Schreibzeug sowie einen einfachen (nicht grafischen) Taschenrechner mit.\nAlle BWL-Studierenden der DHBW besuchen denselben Mathe-Auffrischungskurs\, da die nötigen Voraussetzungen für das Studium identisch sind.\nSofern mehrere Gruppen parallel stattfinden\, behalten wir uns eine Gruppierung in die jeweiligen Studienrichtungen und/oder nach bestehenden Vorkenntnissen vor. Diese werden im Anmeldevorgang abgefragt.\nEine Gruppe besteht aus ca. 20 Teilnehmern.\n\n\nGUT ZU WISSEN:\nInformieren Sie sich über die Möglichkeit der Kostenübernahme bei Ihrem Dualen Partner. Sofern dieser die Kursgebühren übernimmt\, geben Sie bitte die korrekte Firmenanschrift als Rechnungsadresse an. \nDas IWT behält sich vor\, bei zu geringer Teilnehmerzahl oder aus anderen triftigen Gründen ein Seminar abzusagen. Es behält sich weiter vor auch kurzfristig einen Dozenten zu ersetzen. Bitte haben Sie Verständnis dafür\, dass nur bei schriftlicher Abmeldung bis zum Anmeldeschluss die Teilnahmegebühr erstattet bzw. nicht fällig wird. Die weiteren Stornobedingungen finden Sie in unseren AGB. \nHaben Sie Fragen?\nDann freuen wir uns auf Ihre Kontaktaufnahme.\nKati Holz\nWeiterbildung & Wissenstransfer\n+ 49 (0)7541 40294 – 22\nholz@iwt-bodensee.de
URL:https://www.iwt-bodensee.de/event/mathe-auffrischungskurs-fuer-bwl-studiengaenge-2025-duo-kurs-5-taegig/
LOCATION:DHBW Ravensburg – Campus Ravensburg\, Marienplatz 2\, Ravensburg\, 88212
CATEGORIES:Featured
ATTACH;FMTTYPE=image/jpeg:https://www.iwt-bodensee.de/wp-content/uploads/2019/11/math-1547018_1280.jpg
ORGANIZER;CN="IWT Kati Holz":MAILTO:holz@iwt-bodensee.de
END:VEVENT
BEGIN:VEVENT
DTSTART;TZID=Europe/Berlin:20250922T090000
DTEND;TZID=Europe/Berlin:20251002T143000
DTSTAMP:20260422T004924
CREATED:20250423T122149Z
LAST-MODIFIED:20250826T074843Z
UID:54240-1758531600-1759415400@www.iwt-bodensee.de
SUMMARY:Physik-Auffrischungskurs 2025 | DuO-Kurs | 10-tägig
DESCRIPTION:Das Angebot richtet sich an Erstsemester\, die bereits eine Studienplatzzusage an der DHBW haben und die zusätzlich eine Vereinbarung für ein Duales Orientierungsstudium mit ihrem Dualen Partner geschlossen haben. \nDer zweiwöchige Physik-Auffrischungskurs wendet sich an Studienanfänger*innen der Fakultät Technik der DHBW. In vielen Beispielen werden physikalische Zusammenhänge erörtert. Ebenso wird im Kurs der Umgang mit Formeln und Gleichungen beim Lösen von Aufgaben geübt; es wird immer wieder ein Bezug zu technischen bzw. naturwissenschaftlichen Beispielen hergestellt. \nEs ist Zeit eingeplant zum gemeinsamen Üben. Durch zusätzliche Aufgaben soll aber auch zum Selbststudium und selber Üben animiert werden. In 10 Tagen kann nicht die komplette Schulphysik erlernt oder nachgeholt werden. \nZiel: Ziel dieses Kurses ist es\, die vorhandenen physikalischen Kenntnisse und Fähigkeiten nochmals „kurz und knackig“ zu wiederholen\, um den Studierenden aller Technik-Studienrichtungen an der DHBW Ravensburg den Einstieg in die Physik-Vorlesung zu erleichtern. \nKursinhalte:Die Inhalte sind an den Lehrstoff des allgemeinbildenden Gymnasiums in Baden-Württemberg angelehnt. \n\nMechanik:\n\nKinematik\nDynamik\n\n\nStatik\nGrundlagen der Elektrotechnik\n\nelektrische und magnetische Felder\nStromkreise\nInduktion\n\n\n\nDer Kurs dient zur Wiederholung des relevanten Schulstoffs. Im Kurs werden die Inhalte passend zum Studium aufgearbeitet. Durch Ihre Teilnahme erreichen Sie so eine optimale Ausgangsbasis für die Vorlesungen. \n\nUnsere Teilnahme-Empfehlungen: \n\nStudenten mit Allgemeiner Hochschulreife\, die kein Physik in der Kursstufe belegt haben\nStudenten mit Allgemeiner Hochschulreife und einer Physik-Note von maximal 9 Punkten\nStudenten mit Allgemeiner Hochschulreife\, welche länger als zwei Jahre zurückliegt\nStudenten mit Fachhochschulreife\nZulassung über berufliche Qualifikation\n\nIn Ihrer Schulzeit wurde das Thema „Vektorrechnung“ im Matheunterricht nur am Rande behandelt oder vielleicht sogar gar nicht (da nicht Teil des Lehrplans)? In diesem Fall empfehlen wir Ihnen einen Kurs Vektorrechnung (4 Tage) bzw. einen Mathe-Basiskurs (3 Wochen) zu belegen. \n\nKursgebühr:\n620\,00 € (Mwst.-frei) \n\nAb einer Teilnehmerzahl von 8 Studierenden garantieren wir die Durchführung des Kurses.\nBei mehr Teilnehmern gewähren wir einen Rabatt: ab 11 Teilnehmer – 10% des Kurspreises; ab 15 Teilnehmer – 15% des Kurspreises; ab 18 Teilnehmer – 20% des Kurspreises.\n\n\nTermin:\n22.09. – 02.10.2025\ntäglich jeweils von 09:00 – 14:30 Uhr* \n* Änderungen vorbehalten – Die Zeiten müssen ggf. an den Vorlesungsplan der Trainer*innen angepasst werden. \n\nOrt:\nDHBW Ravensburg\, Campus Friedrichshafen \n\nTrainer:\nDiverse \n\nAnmeldefrist:\n24.08.2025 \nHinweis: Kostenlose Stornierungen sind nur bis zur Anmeldefrist möglich. Die weiteren Stornobedingungen finden Sie in unseren AGB. \n\nHinweise:\n\nBitte bringen Sie Schreibzeug sowie einen einfachen (nicht grafischen) Taschenrechner mit.\nSofern mehrere Gruppen parallel stattfinden\, behalten wir uns eine Gruppierung in die jeweiligen Studienrichtungen und/oder nach bestehenden Vorkenntnissen (wie bspw. kein Physik in der Oberstufe) vor. Diese werden im Anmeldevorgang abgefragt.\nEine Gruppe besteht aus ca. 20 Teilnehmern.\n\n\nGUT ZU WISSEN:\nInformieren Sie sich über die Möglichkeit der Kostenübernahme bei Ihrem Dualen Partner. Werden die Kursgebühren von diesem übernommen\, vermerken Sie bitte die korrekte Firmenanschrift als Rechnungsadresse. \nDas IWT behält sich vor\, bei zu geringer Teilnehmerzahl oder aus anderen triftigen Gründen ein Seminar abzusagen. Es behält sich weiter vor auch kurzfristig einen Dozenten zu ersetzen. Bitte haben Sie Verständnis dafür\, dass nur bei schriftlicher Abmeldung bis zum Anmeldeschluss die Teilnahmegebühr erstattet bzw. nicht fällig wird. Die weiteren Stornobedingungen finden Sie in unseren AGB. \nHaben Sie Fragen?\nDann freuen wir uns auf Ihre Kontaktaufnahme.\nKati Holz\nWeiterbildung & Wissenstransfer\n+ 49 (0)7541 40294 – 22\nholz@iwt-bodensee.de
URL:https://www.iwt-bodensee.de/event/physik-auffrischungskurs-2025-duo-kurs-10-taegig/
LOCATION:DHBW Ravensburg – Campus Friedrichshafen\, Fallenbrunnen 2\, Friedrichshafen\, 88045\, Deutschland
CATEGORIES:Featured,Quali_Duales_Studium
ATTACH;FMTTYPE=image/png:https://www.iwt-bodensee.de/wp-content/uploads/2019/03/physik.png
ORGANIZER;CN="IWT Kati Holz":MAILTO:holz@iwt-bodensee.de
END:VEVENT
END:VCALENDAR