BEGIN:VCALENDAR
VERSION:2.0
PRODID:-//IWT Wirtschaft und Technik GmbH - ECPv6.15.11//NONSGML v1.0//EN
CALSCALE:GREGORIAN
METHOD:PUBLISH
X-ORIGINAL-URL:https://www.iwt-bodensee.de
X-WR-CALDESC:Veranstaltungen für IWT Wirtschaft und Technik GmbH
REFRESH-INTERVAL;VALUE=DURATION:PT1H
X-Robots-Tag:noindex
X-PUBLISHED-TTL:PT1H
BEGIN:VTIMEZONE
TZID:Europe/Berlin
BEGIN:DAYLIGHT
TZOFFSETFROM:+0100
TZOFFSETTO:+0200
TZNAME:CEST
DTSTART:20240331T010000
END:DAYLIGHT
BEGIN:STANDARD
TZOFFSETFROM:+0200
TZOFFSETTO:+0100
TZNAME:CET
DTSTART:20241027T010000
END:STANDARD
BEGIN:DAYLIGHT
TZOFFSETFROM:+0100
TZOFFSETTO:+0200
TZNAME:CEST
DTSTART:20250330T010000
END:DAYLIGHT
BEGIN:STANDARD
TZOFFSETFROM:+0200
TZOFFSETTO:+0100
TZNAME:CET
DTSTART:20251026T010000
END:STANDARD
BEGIN:DAYLIGHT
TZOFFSETFROM:+0100
TZOFFSETTO:+0200
TZNAME:CEST
DTSTART:20260329T010000
END:DAYLIGHT
BEGIN:STANDARD
TZOFFSETFROM:+0200
TZOFFSETTO:+0100
TZNAME:CET
DTSTART:20261025T010000
END:STANDARD
END:VTIMEZONE
BEGIN:VEVENT
DTSTART;TZID=Europe/Berlin:20250922T090000
DTEND;TZID=Europe/Berlin:20251002T143000
DTSTAMP:20260424T104244
CREATED:20250423T122149Z
LAST-MODIFIED:20250826T074843Z
UID:54240-1758531600-1759415400@www.iwt-bodensee.de
SUMMARY:Physik-Auffrischungskurs 2025 | DuO-Kurs | 10-tägig
DESCRIPTION:Das Angebot richtet sich an Erstsemester\, die bereits eine Studienplatzzusage an der DHBW haben und die zusätzlich eine Vereinbarung für ein Duales Orientierungsstudium mit ihrem Dualen Partner geschlossen haben. \nDer zweiwöchige Physik-Auffrischungskurs wendet sich an Studienanfänger*innen der Fakultät Technik der DHBW. In vielen Beispielen werden physikalische Zusammenhänge erörtert. Ebenso wird im Kurs der Umgang mit Formeln und Gleichungen beim Lösen von Aufgaben geübt; es wird immer wieder ein Bezug zu technischen bzw. naturwissenschaftlichen Beispielen hergestellt. \nEs ist Zeit eingeplant zum gemeinsamen Üben. Durch zusätzliche Aufgaben soll aber auch zum Selbststudium und selber Üben animiert werden. In 10 Tagen kann nicht die komplette Schulphysik erlernt oder nachgeholt werden. \nZiel: Ziel dieses Kurses ist es\, die vorhandenen physikalischen Kenntnisse und Fähigkeiten nochmals „kurz und knackig“ zu wiederholen\, um den Studierenden aller Technik-Studienrichtungen an der DHBW Ravensburg den Einstieg in die Physik-Vorlesung zu erleichtern. \nKursinhalte:Die Inhalte sind an den Lehrstoff des allgemeinbildenden Gymnasiums in Baden-Württemberg angelehnt. \n\nMechanik:\n\nKinematik\nDynamik\n\n\nStatik\nGrundlagen der Elektrotechnik\n\nelektrische und magnetische Felder\nStromkreise\nInduktion\n\n\n\nDer Kurs dient zur Wiederholung des relevanten Schulstoffs. Im Kurs werden die Inhalte passend zum Studium aufgearbeitet. Durch Ihre Teilnahme erreichen Sie so eine optimale Ausgangsbasis für die Vorlesungen. \n\nUnsere Teilnahme-Empfehlungen: \n\nStudenten mit Allgemeiner Hochschulreife\, die kein Physik in der Kursstufe belegt haben\nStudenten mit Allgemeiner Hochschulreife und einer Physik-Note von maximal 9 Punkten\nStudenten mit Allgemeiner Hochschulreife\, welche länger als zwei Jahre zurückliegt\nStudenten mit Fachhochschulreife\nZulassung über berufliche Qualifikation\n\nIn Ihrer Schulzeit wurde das Thema „Vektorrechnung“ im Matheunterricht nur am Rande behandelt oder vielleicht sogar gar nicht (da nicht Teil des Lehrplans)? In diesem Fall empfehlen wir Ihnen einen Kurs Vektorrechnung (4 Tage) bzw. einen Mathe-Basiskurs (3 Wochen) zu belegen. \n\nKursgebühr:\n620\,00 € (Mwst.-frei) \n\nAb einer Teilnehmerzahl von 8 Studierenden garantieren wir die Durchführung des Kurses.\nBei mehr Teilnehmern gewähren wir einen Rabatt: ab 11 Teilnehmer – 10% des Kurspreises; ab 15 Teilnehmer – 15% des Kurspreises; ab 18 Teilnehmer – 20% des Kurspreises.\n\n\nTermin:\n22.09. – 02.10.2025\ntäglich jeweils von 09:00 – 14:30 Uhr* \n* Änderungen vorbehalten – Die Zeiten müssen ggf. an den Vorlesungsplan der Trainer*innen angepasst werden. \n\nOrt:\nDHBW Ravensburg\, Campus Friedrichshafen \n\nTrainer:\nDiverse \n\nAnmeldefrist:\n24.08.2025 \nHinweis: Kostenlose Stornierungen sind nur bis zur Anmeldefrist möglich. Die weiteren Stornobedingungen finden Sie in unseren AGB. \n\nHinweise:\n\nBitte bringen Sie Schreibzeug sowie einen einfachen (nicht grafischen) Taschenrechner mit.\nSofern mehrere Gruppen parallel stattfinden\, behalten wir uns eine Gruppierung in die jeweiligen Studienrichtungen und/oder nach bestehenden Vorkenntnissen (wie bspw. kein Physik in der Oberstufe) vor. Diese werden im Anmeldevorgang abgefragt.\nEine Gruppe besteht aus ca. 20 Teilnehmern.\n\n\nGUT ZU WISSEN:\nInformieren Sie sich über die Möglichkeit der Kostenübernahme bei Ihrem Dualen Partner. Werden die Kursgebühren von diesem übernommen\, vermerken Sie bitte die korrekte Firmenanschrift als Rechnungsadresse. \nDas IWT behält sich vor\, bei zu geringer Teilnehmerzahl oder aus anderen triftigen Gründen ein Seminar abzusagen. Es behält sich weiter vor auch kurzfristig einen Dozenten zu ersetzen. Bitte haben Sie Verständnis dafür\, dass nur bei schriftlicher Abmeldung bis zum Anmeldeschluss die Teilnahmegebühr erstattet bzw. nicht fällig wird. Die weiteren Stornobedingungen finden Sie in unseren AGB. \nHaben Sie Fragen?\nDann freuen wir uns auf Ihre Kontaktaufnahme.\nKati Holz\nWeiterbildung & Wissenstransfer\n+ 49 (0)7541 40294 – 22\nholz@iwt-bodensee.de
URL:https://www.iwt-bodensee.de/event/physik-auffrischungskurs-2025-duo-kurs-10-taegig/
LOCATION:DHBW Ravensburg – Campus Friedrichshafen\, Fallenbrunnen 2\, Friedrichshafen\, 88045\, Deutschland
CATEGORIES:Featured,Quali_Duales_Studium
ATTACH;FMTTYPE=image/png:https://www.iwt-bodensee.de/wp-content/uploads/2019/03/physik.png
ORGANIZER;CN="IWT Kati Holz":MAILTO:holz@iwt-bodensee.de
END:VEVENT
BEGIN:VEVENT
DTSTART;TZID=Europe/Berlin:20251006T090000
DTEND;TZID=Europe/Berlin:20251024T143000
DTSTAMP:20260424T104244
CREATED:20250423T111949Z
LAST-MODIFIED:20250918T083557Z
UID:54172-1759741200-1761316200@www.iwt-bodensee.de
SUMMARY:Mathe-Basiskurs 2025 | Kurs 2 | 15-tägig
DESCRIPTION:Der Mathematik-Basiskurs erstreckt sich über drei Wochen und wendet sich an Studienanfänger*innen der Fakultät Technik der DHBW\, die ihre Kenntnisse in der Schulmathematik auffrischen bzw. festigen wollen. Ein starker Fokus liegt in diesem Kurs auch auf die Festigung der mathematischen Grundlagen\, da ein sicheres Grundlagenwissen für das technische Studium unabdingbar ist. \nEs ist Zeit eingeplant zum gemeinsamen Üben. Durch zusätzliche Aufgaben und Literaturhinweise soll aber auch zum Selbststudium und selber Üben animiert werden. In drei Wochen kann nicht die komplette Schulmathematik ab Mittelstufe erlernt und nachgeholt werden. \nZiel: Ziel dieses Kurses ist es\, die vorhandenen mathematischen Kenntnisse und Fähigkeiten nochmals zu wiederholen und das mathematische Grundlagenwissen zu festigen. Dadurch wird den Studierenden aller Technik-Studienrichtungen an der DHBW Ravensburg der Einstieg in die Mathe-Vorlesung erleichtert. \nKursinhalte:Die Inhalte sind an den Lehrstoff des allgemeinbildenden Gymnasiums in Baden-Württemberg angelehnt.Es wird die Mathematik von der Mittelstufe bis zum Abitur behandelt. Der Fokus liegt auf den Grundlagen\, da diese die Basis für alle weiteren Schritte sind. \n\nGrundlagen (Bruchrechnen\, binomische Formeln\, Rechnen mit Potenzen\, Wurzeln und Logarithmen\, Lösen quadratischer Gleichungen)\nFunktionen (lineare Funktionen\, Polynome\, Potenz- und Exponentialfunktionen)\nTrigonometrie (Trigonometrie im rechtwinkligen Dreieck\, Einheitskreis\, Bogenmass\, Sinus- und Cosinus-Funktion)\nDifferential-/Integralrechnung (geometrische Bedeutung der Ableitung und der Integration\, Ableitungsregeln\, Integrationsregeln wie partielle Integration\, Substitution)\nVektorrechnung (Skalar- und Vektorprodukt\, Darstellung von Geraden und Ebenen im Dreidimensionalen\, Abstandsbestimmungen)\n\nDer Kurs dient zur Wiederholung des relevanten Schulstoffs. Im Kurs werden die Inhalte passend zum Studium aufgearbeitet. Durch Ihre Teilnahme erreichen Sie so eine optimale Ausgangsbasis für die Vorlesungen. \n\nUnsere Teilnahme-Empfehlungen: \n\nZulassung über berufliche Qualifikation\nStudenten mit Fachhochschulreife\nStudenten mit Allgemeiner Hochschulreife und einer Mathematik-Note von maximal 10 Punkten\nStudenten mit Allgemeiner Hochschulreife\, welche länger als zwei Jahre zurückliegt\n\nEine weitere Entscheidungshilfe für die Auswahl des passenden Mathekurses kann unser Mathe-Selbsttest sein. \nAlternativ besteht die Möglichkeit der Teilnahme am Mathe-Auffrischungskurs (5 Tage) und/oder am Kurs Vektorrechnung (ebenfalls 4 Tage). \n\nKursgebühr:\n510\,00 € (Mwst.-frei) \n\nTermin:\n06.10. – 24.10.2025\njeweils von 09:00 – 14:30 Uhr* \n*Änderungen vorbehalten! Die Zeiten können geringfügig abweichen\, eine finale Information dazu erhalten Sie rechtzeitig vor Kursbeginn. \n\nOrt:\nDHBW Ravensburg\, Campus Friedrichshafen \n\nTrainer:\nDiverse \n\nAnmeldefrist:\n07.09.2025 \nHinweis: Kostenlose Stornierungen sind nur bis zur Anmeldefrist möglich. Die weiteren Stornobedingungen finden Sie in unseren AGB. \n\nHinweise:\n\nBitte bringen Sie Schreibzeug sowie einen einfachen (nicht grafischen) Taschenrechner mit.\nDie Teilnehmerzahl ist beschränkt. Die Plätze werden nach Eingang der Anmeldungen vergeben.\nAlle Technik-Studierenden der DHBW besuchen denselben Mathe-Basiskurs\, da die nötigen Voraussetzungen für das Studium identisch sind.\nSofern 2 Gruppen parallel stattfinden\, behalten wir uns eine Gruppierung in die jeweiligen Studienrichtungen und/oder nach bestehenden Vorkenntnissen vor. Die Vorkenntnisse beziehen sich auf die o.g. Kursinhalte und werden im Anmeldevorgang abgefragt (nach Selbsteinschätzung der Teilnehmer).\nEine Gruppe besteht aus ca. 20 Teilnehmern. Sollte die Anzahl der Anmeldungen für 1 Gruppe zu hoch und für 2 Gruppen zu niedrig sein\, behalten wir uns vor\, ggf. getätigte Anmeldungen zu stornieren bzw. in andere Mathe-Basiskurse umzubuchen (nach Rücksprache).\n\n\nGUT ZU WISSEN:\nInformieren Sie sich über die Möglichkeit der Kostenübernahme bei Ihrem Dualen Partner. Übernimmt Ihr Dualer Partner die Kosten\, geben Sie bitte die korrekte Firmenanschrift als Rechnungsadresse an! \nDas IWT behält sich vor\, bei zu geringer Teilnehmerzahl oder aus anderen triftigen Gründen ein Seminar abzusagen. Es behält sich weiter vor auch kurzfristig einen Dozenten zu ersetzen. Bitte haben Sie Verständnis dafür\, dass nur bei schriftlicher Abmeldung bis zum Anmeldeschluss die Teilnahmegebühr erstattet bzw. nicht fällig wird. Die weiteren Stornobedingungen finden Sie in unseren AGB. \nHaben Sie Fragen?\nDann freuen wir uns auf Ihre Kontaktaufnahme.\nKati Holz\nWeiterbildung & Wissenstransfer\n+ 49 (0)7541 40294 – 22\nholz@iwt-bodensee.de
URL:https://www.iwt-bodensee.de/event/mathe-basiskurs-2025-kurs-2-15-taegig/
LOCATION:DHBW Ravensburg – Campus Friedrichshafen\, Fallenbrunnen 2\, Friedrichshafen\, 88045\, Deutschland
CATEGORIES:Featured,Quali_Duales_Studium
ATTACH;FMTTYPE=image/png:https://www.iwt-bodensee.de/wp-content/uploads/2019/03/Mathe_Basis.png
ORGANIZER;CN="IWT Kati Holz":MAILTO:holz@iwt-bodensee.de
END:VEVENT
BEGIN:VEVENT
DTSTART;TZID=Europe/Berlin:20251008T140000
DTEND;TZID=Europe/Berlin:20251008T163000
DTSTAMP:20260424T104244
CREATED:20250623T072742Z
LAST-MODIFIED:20251007T073746Z
UID:55671-1759932000-1759941000@www.iwt-bodensee.de
SUMMARY:Frauengesundheit am Arbeitsplatz
DESCRIPTION:Peer Group – „Personalentwicklung & Regionale Implementierung“ \nFrauengesundheit ist mehr als ein persönliches Thema – sie ist ein Wirtschaftsfaktor. Dennoch bleibt sie im Arbeitskontext oft unbeachtet oder tabuisiert. Dabei ist das Verständnis dafür\, dass Frauen zyklisch funktionieren – mit natürlichen Schwankungen in Energie\, Konzentration und Belastbarkeit – essenziell für eine gesunde\, leistungsfähige und inklusive Arbeitswelt. Wird diese Realität ignoriert\, entstehen nicht nur gesundheitliche Beanspruchungen\, sondern auch betriebliche Herausforderungen wie Produktivitätsverluste\, stille Kündigungen oder Teamkonflikte. Ziel dieses Vortrags ist es\, aufzuzeigen\, dass Frauengesundheit keine Schwäche darstellt\, sondern eine bislang ungenutzte Stärke – vorausgesetzt\, Unternehmen und Teams beginnen\, bewusst damit umzugehen. \nZielsetzung: \n\nSensibilisierung für Frauengesundheit & Einfluss zyklischer Faktoren\nVerständnis der Auswirkungen auf Energie\, Fokus\, Belastbarkeit und Zusammenarbeit\nFolgen aufzeigen\, sofern dies im Arbeitskontext ignoriert wird\nUnd vor allem: den Blick darauf lenken\, dass Frauengesundheit eine Stärke ist\, wenn wir bewusst damit umgehen\n\nInhalt: \n\n Frauengesundheit als Business-Thema\nEinstieg über Zahlen\, Tabus und reale Herausforderungen im Arbeitsalltag\n Zyklische Realität: biologische Unterschiede zwischen Frauen und Männern\n24-Stunden-Hormonrhythmus vs. Monatszyklus\, Unterschiede in Energieverlauf\, Stressverarbeitung und Bedürfnissen\n Der weibliche Zyklus als Ressource\nDie vier Phasen\, ihre Potenziale und was sie im beruflichen Alltag bedeuten können\n Der Preis des Ignorierens\nStarke Periodenschmerzen\, mentale Erschöpfung\, stille Kündigungen – was das für Teams und Unternehmen bedeutet\n Was Unternehmen konkret tun können\nPraktische Impulse und Mikroveränderungen mit großer Wirkung\nInklusive Kleingruppenarbeit zur Reflexion und Ideenentwicklung\n Abschluss & Transfer\n\nMehrwert für die Teilnehmenden:\nTeilnehmende erhalten ein fundiertes Verständnis darüber\, wie unterschiedlich Frauen und Männer im Arbeitsalltag funktionieren. Sie erkennen\, warum Frauengesundheit kein Randthema\, sondern ein relevanter Bestandteil moderner Unternehmenskultur ist. Der Vortrag inspiriert dazu\, neue Perspektiven einzunehmen und zeigt praxisnahe Wege\, wie Unternehmen Gesundheit\, Leistungsfähigkeit und Zufriedenheit von Mitarbeiterinnen stärken können. \nZielgruppe: HR-Abteilung\, Personalentwickler\, Ausbilder\, Geschäftsführer*innen \n  \nReferentin: Rubina Lakhera \n… ist zertifizierte Female Health Coach & Speakerin für ganzheitliche Frauengesundheit und bringt Frauengesundheit und Zyklusbewusstsein ins Unternehmen: für weniger Ausfälle\, nachhaltige Leistungsfähigkeit und eine Führungskultur\, die den weiblichen Rhythmus als Ressource erkennt. Mit einem allumfassenden Ansatz und dem Blick für das Wesentliche schafft sie Bewusstsein für dieses sensible Thema im Arbeitsalltag und öffnet neue Perspektiven für mehr Gesundheit\, Miteinander und weibliche Präsenz im Unternehmen. \n  \nSie waren bei den ersten Treffen nicht dabei? Es ist kein Problem\, es besteht die Möglichkeit jederzeit einzusteigen.  \nDie Peer-Group entstand aus unserem Förderprojekt vtb – Verbund für Technologie und Bildung und wird auch nach der Förderung fortgeführt. Das so entstandene Netzwerk bietet weiterhin eine Plattform für den gemeinsamen Austausch. Neue Teilnehmende sind jederzeit herzlich willkommen. \n  \nKooperationsevent gemeinsam mit                                              dem Transformationsnetzwerk für die Region Allgäu-Bodensee-Oberschwaben.
URL:https://www.iwt-bodensee.de/event/frauengesundheit-am-arbeitsplatz/
LOCATION:RITZ Regionales Innovations- und Technologietransfer Zentrum\, Fallenbrunnen 14\, Friedrichshafen\, 88045\, Deutschland
CATEGORIES:Events,Featured,Persönlichkeitsentwicklung
ATTACH;FMTTYPE=image/jpeg:https://www.iwt-bodensee.de/wp-content/uploads/2025/06/iStock-Frauengesundheit_klein.jpg
ORGANIZER;CN="IWT Katrin Willamowski":MAILTO:willamowski@iwt-bodensee.de
END:VEVENT
BEGIN:VEVENT
DTSTART;TZID=Europe/Berlin:20251023T093000
DTEND;TZID=Europe/Berlin:20251023T173000
DTSTAMP:20260424T104245
CREATED:20250129T070949Z
LAST-MODIFIED:20251020T122850Z
UID:53690-1761211800-1761240600@www.iwt-bodensee.de
SUMMARY:Production Excellence Day 2025
DESCRIPTION:Der dritte Production Excellence Day findet am 23. Oktober 2025 von 9:30 – 16:00 Uhr am Technikcampus Friedrichshafen im RITZ (Regionales Innovations- und Technologietransfer Zentrum) statt. \nDie Veranstaltung richtet sich an technische und kaufmännische Fach- und Führungskräfte\, insbesondere aus den Bereichen Produktion\, Arbeitsvorbereitung\, Industrial Engineering\, Supply Chain Management und Industrie 4.0. \nDie Themenschwerpunkte der Veranstaltung sind die Transformation von Produktionsnetzwerken\, Flexibilisierung von Lieferketten\, Trends und neue Konzepte aus der industriellen Produktion\, Smart Factory und Smart Operations sowie das Variantenmanagement. \nVeranstalter ist das Zentrum für Digitalisierung in Produktion und Produktentwicklung (ZDP) am Technikcampus Friedrichshafen der DHBW Ravensburg. Kooperationspartner sind das RITZ Regionales Innovations- und Technologietransferzentrum und die IWT Wirtschaft und Technik GmbH. \n \n \n \nProgramm\nEinlass ab 9:30 Uhr \n\n\n\nBegrüßung \n\n\n\n\n\n\n\nDr. Uwe Remminghorst & Bastian Erb\nVice President Production\nThema: Zwischen Engineering und Science – Robotik\, moderne Automatisierungstechniken und orchestrierte Datenflüsse \n\n\n\n\n\n\n\nProf. Dr. Matthias Pfeffer\nProfessor\, Mitglied der Hochschulleitung\nThema: Kostenchaos nach der Prozessoptimierung – Unternehmen kennen Ihre Produktkosten nicht mehr!\n\n\n\n\n\nDaniel Lück\nHead of AIT & Production Germany\nThema: Digitalisierung in der Produktion von Raumfahrzeugen\n\n\n\n\n\nAlexander Schließmann\nLead Value Engineer\nThema: Menschen – Maschinen – Prozesse: Den digitalen Change in der Fertigung erfolgreich managen\n\n\n\n\n\nJan Lepper\nInhaber\nThema: Von der Datenflut zur Datenpflicht: Wie der EU AI Act die industrielle KI-Nutzung neu definiert\n\n\n\n\n\nStephan Kaiser\nSpecialist in Production Management\nThema: Digitale Transformation der Industrie im 21. Jahrhundert\n\n\n\n\n\nMarkus Helfenstein\nKi-Manager & Data Scientist\nThema: Von Predicitve zu Prescriptive Maintenance – Mit KI von der Prognose zur Handlung\n\n\n\n\n\nDr.-Ing. Guilherme Mallmann\nEntwicklungsleiter NC- und Messsoftware\nThema: Präzise messen. Sicher regeln. Automatisiert fertigen. Stabil produzieren\n\n\n\n\n\nChristian Spohn\nAbteilungsleiter Automatisierung\nThema: Automatisierung per Knopfdruck – raus mit der Verschwendung\n\n\n\n\n\nDr.-Ing. Thomas Mücke\nTechnical Account Manager\nThema: Der Weg zur intelligenten Fabrik\n\n\n\n\n\nProf. Dr. Dietmüller\nLeiter Zentrum für Digitalisierung in  Produktion und Produktentwicklung\n\n\n\n\n\nca. 16:15 Uhr Abschluss und Get Together\n\n\n\n Änderungen vorbehalten!\n\n  \nAnmeldefrist: 30.09.2025 – Anmeldungen sind über die reguläre Anmeldefrist hinaus möglich.\n\n  \nEine Veranstaltung von: \n \n \nIn Kooperation mit: \n \n  \nTicketpreis zzgl. MwSt.
URL:https://www.iwt-bodensee.de/event/production-excellence-day-2025/
LOCATION:RITZ Regionales Innovations- und Technologietransfer Zentrum\, Fallenbrunnen 14\, Friedrichshafen\, 88045\, Deutschland
CATEGORIES:Events,Featured,Wirtschaft und Management
ATTACH;FMTTYPE=image/png:https://www.iwt-bodensee.de/wp-content/uploads/2025/01/PED2025_L.png
ORGANIZER;CN="IWT Katrin Willamowski":MAILTO:willamowski@iwt-bodensee.de
END:VEVENT
BEGIN:VEVENT
DTSTART;TZID=Europe/Berlin:20251027T090000
DTEND;TZID=Europe/Berlin:20251107T143000
DTSTAMP:20260424T104245
CREATED:20250423T121800Z
LAST-MODIFIED:20250929T090858Z
UID:54249-1761555600-1762525800@www.iwt-bodensee.de
SUMMARY:Physik-Auffrischungskurs 2025 | Kurs 1 | 10-tägig
DESCRIPTION:LETZTE PLÄTZE für den kommenden KURS ab 27.10. noch verfügbar! \nDer zweiwöchige Physik-Auffrischungskurs wendet sich an Studienanfänger*innen der Fakultät Technik der DHBW. In vielen Beispielen werden physikalische Zusammenhänge erörtert. Ebenso wird im Kurs der Umgang mit Formeln und Gleichungen beim Lösen von Aufgaben geübt; es wird immer wieder ein Bezug zu technischen bzw. naturwissenschaftlichen Beispielen hergestellt. \nEs ist Zeit eingeplant zum gemeinsamen Üben. Durch zusätzliche Aufgaben soll aber auch zum Selbststudium und selber Üben animiert werden. In 10 Tagen kann nicht die komplette Schulphysik erlernt oder nachgeholt werden. \nZiel: Ziel dieses Kurses ist es\, die vorhandenen physikalischen Kenntnisse und Fähigkeiten nochmals „kurz und knackig“ zu wiederholen\, um den Studierenden aller Technik-Studienrichtungen an der DHBW Ravensburg den Einstieg in die Physik-Vorlesung zu erleichtern. \nKursinhalte:Die Inhalte sind an den Lehrstoff des allgemeinbildenden Gymnasiums in Baden-Württemberg angelehnt. \n\nMechanik:\n\nKinematik\nDynamik\n\n\nStatik\nGrundlagen der Elektrotechnik\n\nelektrische und magnetische Felder\nStromkreise\nInduktion\n\n\n\nDer Kurs dient zur Wiederholung des relevanten Schulstoffs. Im Kurs werden die Inhalte passend zum Studium aufgearbeitet. Durch Ihre Teilnahme erreichen Sie so eine optimale Ausgangsbasis für die Vorlesungen. \n\nUnsere Teilnahme-Empfehlungen: \n\nStudenten mit Allgemeiner Hochschulreife\, die kein Physik in der Kursstufe belegt haben\nStudenten mit Allgemeiner Hochschulreife und einer Physik-Note von maximal 9 Punkten\nStudenten mit Allgemeiner Hochschulreife\, welche länger als zwei Jahre zurückliegt\nStudenten mit Fachhochschulreife\nZulassung über berufliche Qualifikation\n\nIn Ihrer Schulzeit wurde das Thema „Vektorrechnung“ im Matheunterricht nur am Rande behandelt oder vielleicht sogar gar nicht (da nicht Teil des Lehrplans)? In diesem Fall empfehlen wir Ihnen einen Kurs Vektorrechnung (4 Tage) bzw. einen Mathe-Basiskurs (3 Wochen) zu belegen. \n\nKursgebühr:\n405\,00 € (Mwst.-frei) \n\nTermine:\n27.10. – 07.11.2025 \njeweils von 09:00-14:30 Uhr* \n*Änderungen vorbehalten – Die Zeiten müssen ggf. an den Vorlesungsplan der Trainer*innen angepasst werden. \n\nOrt:\nDHBW Ravensburg\, Campus Friedrichshafen \n\nTrainer:\nDiverse \n\nAnmeldefrist:\n28.09.2025 \nHinweis: Kostenlose Stornierungen sind nur bis zur Anmeldefrist möglich. Die weiteren Stornobedingungen finden Sie in unseren AGB. \n\nHinweise:\n\nBitte bringen Sie Schreibzeug sowie einen einfachen (nicht grafischen) Taschenrechner mit.\nDie Teilnehmerzahl ist beschränkt. Die Plätze werden nach Eingang der Anmeldungen vergeben.\nSofern 2 Gruppen parallel stattfinden\, behalten wir uns eine Gruppierung in die jeweiligen Studienrichtungen und/oder nach bestehenden Vorkenntnissen (wie bspw. kein Physik in der Oberstufe) vor. Diese werden im Anmeldevorgang abgefragt.\nEine Gruppe besteht aus ca. 20 Teilnehmenden. Sollte die Anzahl der Anmeldungen für 1 Gruppe zu hoch und für 2 Gruppen zu niedrig sein\, behalten wir uns vor\, ggf. getätigte Anmeldungen zu stornieren bzw. in andere Physik-Auffrischungskurse umzubuchen (nach Rücksprache).\n\n\nGUT ZU WISSEN:\nInformieren Sie sich über die Möglichkeit der Kostenübernahme bei Ihrem Dualen Partner. Sofern Ihr Dualer Partner die Kursgebühr übernimmt\, geben Sie bitte die korrekte Firmenanschrift als Rechnungsadresse an. \nDas IWT behält sich vor\, bei zu geringer Teilnehmendenzahl oder aus anderen triftigen Gründen ein Seminar abzusagen. Es behält sich weiter vor auch kurzfristig einen Dozenten zu ersetzen. Bitte haben Sie Verständnis dafür\, dass nur bei schriftlicher Abmeldung bis zum Anmeldeschluss die Teilnahmegebühr erstattet bzw. nicht fällig wird. Die weiteren Stornobedingungen finden Sie in unseren AGB. \nHaben Sie Fragen?\nDann freuen wir uns auf Ihre Kontaktaufnahme.\nKati Holz\nWeiterbildung & Wissenstransfer\n+ 49 (0)7541 40294 – 22\nholz@iwt-bodensee.de
URL:https://www.iwt-bodensee.de/event/physik-auffrischungskurs-2025-kurs-1-10-taegig/
LOCATION:DHBW Ravensburg – Campus Friedrichshafen\, Fallenbrunnen 2\, Friedrichshafen\, 88045\, Deutschland
CATEGORIES:Featured,Quali_Duales_Studium
ATTACH;FMTTYPE=image/png:https://www.iwt-bodensee.de/wp-content/uploads/2019/03/physik.png
ORGANIZER;CN="IWT Kati Holz":MAILTO:holz@iwt-bodensee.de
END:VEVENT
BEGIN:VEVENT
DTSTART;TZID=Europe/Berlin:20251029T190000
DTEND;TZID=Europe/Berlin:20251112T211500
DTSTAMP:20260424T104245
CREATED:20241220T081539Z
LAST-MODIFIED:20251028T124600Z
UID:53408-1761764400-1762982100@www.iwt-bodensee.de
SUMMARY:Excel-Kurs I Herbst 2025 I Online
DESCRIPTION:Dieses praxisorientierte Training vermittelt auf verständliche Weise die grundlegenden und fortgeschrittenen Funktionen von Microsoft Excel. Sie lernen\, wie Sie Daten effektiv organisieren\, analysieren und aktualisieren\, sowie aussagekräftige visuelle Darstellungen erstellen. Mit diesem Kurs werden Sie Excel sicher und effizient nutzen\, um tägliche Aufgaben zu optimieren und datenbasierte Entscheidungen zu unterstützen. \nSeminarinhalt:\nDaten aufbereiten: \n\nTabellen erstellen und nutzen\nVerweise (SVERWEIS\, XVERWEIS\, INDEX-Match)\nWENN und SUMMEWENN\nDynamische Matrix/Arrayformeln erstellen\nEinstieg in Power Query (inkl. Daten Im- und Export sowie Abfragen aus mehreren Datenquellen)\n\nDaten analysieren: \n\nPivottabellen\nEinstieg in Power Pivot\n\nDaten darstellen: \n\nBedingte Formatierung\nDiagramme erstellen und professionalisieren\n\nVoraussetzungen:\n\nGrundlegendes Verständnis von Excel\n Microsoft 365 (andere Versionen können benutzt werden\, beinhalten aber ggf. nicht alle notwendigen Funktionen)\n\nAls Student der DHBW erhält man eine Office-365-Jahreslizenz für unter 5 EUR siehe hier: https://www.ravensburg.dhbw.de/fileadmin/Ravensburg/Dokumente_Bilder_Contentbereich/ITS/DHBW_RV_ITS_Zugangsdatenuebersicht_IT.pdf \nUmfang:\n3 Termine\, jeweils mittwochs von 19:00 – 21:15 Uhr \n29.10.2025 \n05.11.2025 \n12.11.2025 \nZielgruppe:\n\nStudierende der DHBW\, Alumni und Externe\n\nKursgebühr: (MwSt.-frei)\n\n79\,- € für Studierende\n89\,- € für Alumni und Externe\n\n \nMindestteilnehmerzahl: 12 \n \nTrainer:\nDaniel Kittl\, B. Eng. \nSeit 2020 Gast-Dozent an der DHBW Ravensburg; Campus Friedrichshafen\nSeit 2024 Staufen\n2021- 2024 PwC Deutschland \n\nAnmeldefrist: 30.09.2025 – verlängert bis 28.10.25\n \nHinweis: Kostenlose Stornierungen sind nur bis zur Anmeldefrist möglich. Die weiteren Stornobedingungen finden Sie in unseren AGB.
URL:https://www.iwt-bodensee.de/event/excel-kurs-i-herbst-2025-i-online/
LOCATION:Digital über Zoom
CATEGORIES:Events,Studienangebot
ATTACH;FMTTYPE=image/png:https://www.iwt-bodensee.de/wp-content/uploads/2020/02/excel-3873854_1920.png
ORGANIZER;CN="IWT Katrin Willamowski":MAILTO:willamowski@iwt-bodensee.de
END:VEVENT
END:VCALENDAR